BEGIN:VCALENDAR
VERSION:2.0
PRODID:-//wp-events-plugin.com//7.2.3.1//EN
TZID:America/Chicago
X-WR-TIMEZONE:America/Chicago
BEGIN:VEVENT
UID:75@jhtraveltours.com
DTSTART;TZID=America/Chicago;VALUE=DATE:20131209
DTEND;TZID=America/Chicago;VALUE=DATE:20131213
DTSTAMP:20130918T040254Z
URL:https://jhtraveltours.com/events/a-chicago-holiday/
SUMMARY:A Chicago Holiday - #_LOCATIONNAME - 9 Dec 13 00:00
DESCRIPTION:This Holiday Journey lets you experience the Spirit of the Holi
 days in the Windy City of Chicago. Dine in some of the finest restaurants\
 , shop in some of Chicago’s most well known stores\, stay in an historic
  Chicago hotel and view the city from atop the city’s tallest building.[
 gview file="https://jhtraveltours.com//wp-content/uploads/2013/01/A-Chicag
 o-Holiday-JH-Travel.pdf"]\n\nYour Tour Includes: Roundtrip Deluxe Motorcoa
 ch Transportation\, Three Nights’ Lodging\, Gratuities for the Tour Dire
 ctor and the Driver\, Luggage Handling for One Piece Per Person\, Full-Tim
 e Tour Director\, Six Meals\, All Attractions &amp\; Activities Per the It
 inerary and All Taxes &amp\; Gratuities for Included Lodging\, Meals and A
 ttractions.\nNot Included: Any Optional Meals and Attractions\, Travel Ins
 urance and Any Items of a Personal Nature.
CATEGORIES:Short Trip
END:VEVENT
BEGIN:VTIMEZONE
TZID:America/Chicago
X-LIC-LOCATION:America/Chicago
BEGIN:STANDARD
DTSTART:20131103T010000
TZOFFSETFROM:-0500
TZOFFSETTO:-0600
TZNAME:CST
END:STANDARD
END:VTIMEZONE
END:VCALENDAR