BEGIN:VCALENDAR
VERSION:2.0
PRODID:-//wp-events-plugin.com//7.2.3.1//EN
TZID:America/Chicago
X-WR-TIMEZONE:America/Chicago
BEGIN:VEVENT
UID:250@jhtraveltours.com
DTSTART;TZID=America/Chicago:20180927T121500
DTEND;TZID=America/Chicago:20180927T191500
DTSTAMP:20180126T171453Z
URL:https://jhtraveltours.com/events/a-comedy-of-tenors/
SUMMARY:A Comedy of Tenors - #_LOCATIONNAME - 27 Sep 18 12:15
DESCRIPTION:Join JH Travel for a fun\, matinee comedy show at Old Creamery 
 Theatre followed by an evening meal at Valerie's Fine Dining at the Linden
  House in Lynnville\, IA.\n\nThis mile a minute comedy hits all the high n
 otes when over-the-top opera stars\, hot and cold running lovers\, mistake
 n identities\, and the “Concert of the Century” collide in a Paris hot
 el room. Hysterical mayhem takes the stage in this brand new play that wil
 l most certainly have you rolling in the aisles!\n\nOur evening meal will 
 be hosted by Valerie which will include a cup of soup\, side salad\, Flowe
 r Pot Bread &amp\; baked potato with main entree\, drink and cheesecake wi
 th raspberry puree for dessert. A main entree choice will need to be given
  when making a reservation in which the entrees are: 1). Breaded Boneless 
 Pork Chop 2). Chicken Breast Chardonnay with Mushroom Sauce.  \n\nDon't m
 iss this fun afternoon &amp\; evening! Call today to make your reservation
 s!\n\nDepart: 12:15 p.m.\n\nReturn:  7:15 p.m.\n\nCost Per Person: $109.0
 0\n\nReservations and payment due by September 7\, 2018
ATTACH;FMTTYPE=image/jpeg:https://jhtraveltours.com/wp-content/uploads/201
 8/01/AComedyOfTenors_Slide_1.jpg
CATEGORIES:Day Trip
END:VEVENT
BEGIN:VTIMEZONE
TZID:America/Chicago
X-LIC-LOCATION:America/Chicago
BEGIN:DAYLIGHT
DTSTART:20180311T030000
TZOFFSETFROM:-0600
TZOFFSETTO:-0500
TZNAME:CDT
END:DAYLIGHT
END:VTIMEZONE
END:VCALENDAR