BEGIN:VCALENDAR
VERSION:2.0
PRODID:-//wp-events-plugin.com//7.2.3.1//EN
TZID:America/Chicago
X-WR-TIMEZONE:America/Chicago
BEGIN:VEVENT
UID:33@jhtraveltours.com
DTSTART;TZID=America/Chicago:20120621T074500
DTEND;TZID=America/Chicago:20120621T213000
DTSTAMP:20120618T020258Z
URL:https://jhtraveltours.com/events/a-day-of-iowa-touring-clear-lake-maso
 n-city/
SUMMARY:A Day of Iowa Touring - Clear Lake & Mason City UPDATE: SOLD OUT! -
  #_LOCATIONNAME - 21 Jun 12 07:45
DESCRIPTION:UPDATE: SOLD OUT\nThis is our second in the series of “2012
 ” Iowa travels for JH Travel!  We are headed north for this trip visiti
 ng Clear Lake &amp\; Mason City to enjoy a beautiful cruise\, learn about 
 Meredith Wilson\, see a new attraction for Mason City and enjoy great food
  with a trip down memory lane with 1950’s music!
CATEGORIES:Day Trip
END:VEVENT
BEGIN:VTIMEZONE
TZID:America/Chicago
X-LIC-LOCATION:America/Chicago
BEGIN:DAYLIGHT
DTSTART:20120311T030000
TZOFFSETFROM:-0600
TZOFFSETTO:-0500
TZNAME:CDT
END:DAYLIGHT
END:VTIMEZONE
END:VCALENDAR