BEGIN:VCALENDAR
VERSION:2.0
PRODID:-//wp-events-plugin.com//7.2.3.1//EN
TZID:America/Chicago
X-WR-TIMEZONE:America/Chicago
BEGIN:VEVENT
UID:28@jhtraveltours.com
DTSTART;TZID=America/Chicago:20120327T080000
DTEND;TZID=America/Chicago:20120327T203000
DTSTAMP:20120318T022747Z
URL:https://jhtraveltours.com/events/a-day-of-iowa-touring-des-moines/
SUMMARY:A Day of Iowa Touring - Des Moines - #_LOCATIONNAME - 27 Mar 12 08:
 00
DESCRIPTION:This will be the first trip in our series of Iowa travels for 
 “2012”! We enjoyed sharing some treasures in Iowa with our travelers i
 n “2011” and we have lots more to show you!\n\nRead More
CATEGORIES:Day Trip
END:VEVENT
BEGIN:VTIMEZONE
TZID:America/Chicago
X-LIC-LOCATION:America/Chicago
BEGIN:DAYLIGHT
DTSTART:20120311T030000
TZOFFSETFROM:-0600
TZOFFSETTO:-0500
TZNAME:CDT
END:DAYLIGHT
END:VTIMEZONE
END:VCALENDAR