BEGIN:VCALENDAR
VERSION:2.0
PRODID:-//wp-events-plugin.com//7.2.3.1//EN
TZID:America/Chicago
X-WR-TIMEZONE:America/Chicago
BEGIN:VEVENT
UID:81@jhtraveltours.com
DTSTART;TZID=America/Chicago:20130612T064500
DTEND;TZID=America/Chicago:20130612T214500
DTSTAMP:20130322T020853Z
URL:https://jhtraveltours.com/events/a-day-of-iowa-touring-elkader/
SUMMARY:A Day of Iowa Touring...Elkader - #_LOCATIONNAME - 12 Jun 13 06:45
DESCRIPTION:This is the second trip in the series of discovering\, experien
 cing Iowa with JH Travel! This town has so much to offer and has a variety
  of attractions and unique businesses that make up Elkader – so come alo
 ng and join us!\n\nOur first stop will be at Caterpillar\, Inc which makes
  attachments for equipment as in buckets &amp\; blades for excavation.  O
 ur tour will begin with the flat steel brought in and go all the way to se
 e the finished product ready to be shipped out.  Our Irish lunch will be 
 served at Fennelly’s Irish Pub &amp\; Restaurant complete with a little 
 Irish dessert! Our next stop will take us to see the totally renovated Elk
 ader Opera House for a history lesson about the process of restoring this 
 historical building back to its original grandeur.  Did you know that C J
  Moyna &amp\; Sons Construction builds construction &amp\; road work scrap
 ers? There is a very interesting story of this factory as well as how Cate
 rpillar came to Elkader.  . . come along to find out!\n\nWe will also see
  a collection of antique bulldozers. On the return back to Newton you will
  have big fish stories to tell your friends! On this trip we will be visit
 ing the Big Spring Fish Hatchery where we will learn about how long it tak
 es a trout to reach “catchable size” and what the process is to stock 
 them in the Turkey River.  Our evening meal will be served at Schera’s 
 Algerian-American Restaurant before the journey back to Newton with fond m
 emories of our experience in Elkader!\n\nJoin us for a variety day of lear
 ning “how it is made” right here in Iowa\, an Irish lunch and an Alger
 ian-American evening meal\, a historical attraction and of course . . . me
 eting new friends along the way! Sign up soon!
CATEGORIES:Day Trip
END:VEVENT
BEGIN:VTIMEZONE
TZID:America/Chicago
X-LIC-LOCATION:America/Chicago
BEGIN:DAYLIGHT
DTSTART:20130310T030000
TZOFFSETFROM:-0600
TZOFFSETTO:-0500
TZNAME:CDT
END:DAYLIGHT
END:VTIMEZONE
END:VCALENDAR