BEGIN:VCALENDAR
VERSION:2.0
PRODID:-//wp-events-plugin.com//7.2.3.1//EN
TZID:America/Chicago
X-WR-TIMEZONE:America/Chicago
BEGIN:VEVENT
UID:55@jhtraveltours.com
DTSTART;TZID=America/Chicago:20120906T070000
DTEND;TZID=America/Chicago:20120906T224500
DTSTAMP:20120608T051014Z
URL:https://jhtraveltours.com/events/a-day-of-iowa-touring-gmacp/
SUMMARY:A Day of Iowa Touring . . . GMACP - #_LOCATIONNAME - 6 Sep 12 07:00
DESCRIPTION:Where\, oh where is our motor coach going to take the JH Travel
  gang on Thursday\, September 6\, 2012?  Board the motor coach\, sit back
  and relax as we visit the towns of Greenfield\, Macedonia\, Avoca\, Carso
 n &amp\; Pacific Junction – all in Iowa – we promise!\n\nA step back i
 n time to see how early aviation began\, see beautiful antique aircrafts\,
  exciting stories of early aviators and aviation memorabilia will greet us
  at the Iowa Aviation Museum in Greenfield.  Talk about early gliders bei
 ng pulled by a horse\, a record of 27 days in an airplane while looking in
 side one of those cockpits – unreal! A travel down the road (not by airp
 lane) will take us to the Back Forty at Macedonia for lunch before departi
 ng for Avoca to visit Farmall-Land USA.  This hidden Iowa treasure has 26
 \,500 square foot of more than 150 IH full-size tractors\, pedal tractors\
 , toy tractors and other IH memorabilia.  Each tractor is accompanied by 
 informational material highlighting its history\, uses and unique characte
 ristics. If you need a quick rest\, relax in the “Tractor Widows Lounge
 ”! The Pottery by the Creek at Carson is next on our list as we meet art
 ist Paul Koch whom does pottery and ceramic sculptures.  He will be throw
 ing the clay as he visits with travelers and answers questions about his t
 alents.  A studio displays his many finished products.  Our Hawkeye Stag
 es motor coach will then depart for Pacific Junction for a special treat! 
 The villa type castle awaits our group and is situated in a beautiful land
 scape that includes hills\, a relaxing fountain in a pond all set up for a
  tour and will include a relaxing evening meal for JH Travel travelers to 
 conclude our day!\n\nAs we have not toured a lot of western Iowa we will b
 e in for a treat! Hope to have you join us for the “A Day of Iowa Tourin
 g . . .GMACP”!
CATEGORIES:Day Trip
END:VEVENT
BEGIN:VTIMEZONE
TZID:America/Chicago
X-LIC-LOCATION:America/Chicago
BEGIN:DAYLIGHT
DTSTART:20120311T030000
TZOFFSETFROM:-0600
TZOFFSETTO:-0500
TZNAME:CDT
END:DAYLIGHT
END:VTIMEZONE
END:VCALENDAR