BEGIN:VCALENDAR
VERSION:2.0
PRODID:-//wp-events-plugin.com//7.2.3.1//EN
TZID:America/Chicago
X-WR-TIMEZONE:America/Chicago
BEGIN:VEVENT
UID:351@jhtraveltours.com
DTSTART;TZID=America/Chicago:20211001T061500
DTEND;TZID=America/Chicago:20211001T203000
DTSTAMP:20210806T040935Z
URL:https://jhtraveltours.com/events/a-step-back-in-time-october/
SUMMARY:A Step Back in Time - October 1 - #_LOCATIONNAME - 1 Oct 21 06:15
DESCRIPTION:Due to the popularity of this trip we have two dates that trave
 lers can sign up for which are September 10\, September 24 &amp\; October 
 1\, 2021. This is a very informational trip for travelers to learn about t
 he Amish and if you enjoy "YUMMY" food than this is the tour for you!\n\nW
 e will be taking a morning break on our way (on your own) to Oelwein where
  we pick up Deb\, our step on guide for the day.  Our first stop is a "mu
 st" on our tour as we stop at the Boulevard Bakery where all the baking is
  done without electricity.  Next is a stop at Wapsie Valley Produce Aucti
 on where Amish farmers sell their products followed by some time at Plainv
 iew Bulk Food Store for shopping\, lunch and a farm tour. Check out the bu
 lk food offered\, baked items for sale and more before savoring the flavor
 s of a home cooked meal and we sure won't leave hungry! Lunch will include
  all the Amish favorites as in chicken\, meatballs or meatloaf\,  mashed 
 potatoes &amp\; gravy\, homemade noodles\, salads\, vegetable\, homemade b
 read &amp\; jam and dessert! After lunch we will take a short farm tour di
 splaying the ice storage shed\, calf &amp\; horse barns and step into thei
 r home to see the Amish way of life.\n\nOur tour will then take us to Helm
 uth's Country Store which carries a large variety of items and offers some
 thing for everyone! Our second store stop will be to visit Hershberger Cou
 ntry Store before our final stop which will be at a buggy shop for a short
  presentation.\n\nWe then travel to Barn Happy in Cedar Falls for a light 
 evening meal before we head back to Newton with great memories of  "A Ste
 p Back in Time" tour!  Please note there is a limit of 30 travelers each 
 day due to the size of the shops that we will be visiting. Don't wait too 
 long to make your reservation as these trips will fill up quickly!\n\nDepa
 rt:  6:15 a.m.\n\nReturn:  8:30 p.m.\n\nCost Per Person:  $162.00\n\nRe
 servation and payment due by September 2\, 2021
CATEGORIES:Day Trip
END:VEVENT
BEGIN:VTIMEZONE
TZID:America/Chicago
X-LIC-LOCATION:America/Chicago
BEGIN:DAYLIGHT
DTSTART:20210314T030000
TZOFFSETFROM:-0600
TZOFFSETTO:-0500
TZNAME:CDT
END:DAYLIGHT
END:VTIMEZONE
END:VCALENDAR