BEGIN:VCALENDAR
VERSION:2.0
PRODID:-//wp-events-plugin.com//7.2.3.1//EN
TZID:America/Chicago
X-WR-TIMEZONE:America/Chicago
BEGIN:VEVENT
UID:353@jhtraveltours.com
DTSTART;TZID=America/Chicago:20210910T061500
DTEND;TZID=America/Chicago:20210910T203000
DTSTAMP:20210806T041144Z
URL:https://jhtraveltours.com/events/a-step-back-in-time-september-10/
SUMMARY:A Step Back in Time - September 10 - #_LOCATIONNAME - 10 Sep 21 06:
 15
DESCRIPTION:This is a very informational trip for travelers to learn about 
 the Amish and if you enjoy "YUMMY" food than this is the tour for you!\n\n
 We will be taking a morning break on our way (on your own) to Oelwein wher
 e we pick up Deb\, our step on guide for the day.  Our first stop is a "m
 ust" on our tour as we stop at the Boulevard Bakery where all the baking i
 s done without electricity.  Next is a stop at Wapsie Valley Produce Auct
 ion where Amish farmers sell their products followed by some time at Plain
 view Bulk Food Store for shopping\, lunch and a farm tour. Check out the b
 ulk food offered\, baked items for sale and more before savoring the flavo
 rs of a home cooked meal and we sure won't leave hungry! Lunch will includ
 e all the Amish favorites as in chicken\, meatballs or meatloaf\,  mashed
  potatoes &amp\; gravy\, homemade noodles\, salads\, vegetable\, homemade 
 bread &amp\; jam and dessert! After lunch we will take a short farm tour d
 isplaying the ice storage shed\, calf &amp\; horse barns and step into the
 ir home to see the Amish way of life.\n\nOur tour will then take us to Hel
 muth's Country Store which carries a large variety of items and offers som
 ething for everyone! Our second store stop will be to visit Hershberger Co
 untry Store before our final stop which will be at a buggy shop for a shor
 t presentation.\n\nWe then travel to Highway 63 Diner in Waterloo for an e
 vening meal before we head back to Newton with great memories of  "A Step
  Back in Time" tour!  Please note there is a limit of 30 travelers each d
 ay due to the size of the shops that we will be visiting. Don't wait too l
 ong to make your reservation as this trip will fill up quickly!\n\nDepart:
   6:15 a.m.\n\nReturn:  8:30 p.m.\n\nCost Per Person:  $162.00\n\nReser
 vation and payment due by August 13\, 2021 
CATEGORIES:Day Trip
END:VEVENT
BEGIN:VTIMEZONE
TZID:America/Chicago
X-LIC-LOCATION:America/Chicago
BEGIN:DAYLIGHT
DTSTART:20210314T030000
TZOFFSETFROM:-0600
TZOFFSETTO:-0500
TZNAME:CDT
END:DAYLIGHT
END:VTIMEZONE
END:VCALENDAR