BEGIN:VCALENDAR
VERSION:2.0
PRODID:-//wp-events-plugin.com//7.2.3.1//EN
TZID:America/Chicago
X-WR-TIMEZONE:America/Chicago
BEGIN:VEVENT
UID:294@jhtraveltours.com
DTSTART;TZID=America/Chicago:20191115T160000
DTEND;TZID=America/Chicago:20191115T223000
DTSTAMP:20190124T033730Z
URL:https://jhtraveltours.com/events/a-tribute-to-reba-mcentire/
SUMMARY:A Tribute to Reba McEntire - #_LOCATIONNAME - 15 Nov 19 16:00
DESCRIPTION:*Evening Show\n\nOur evening will begin with a family style mea
 l served at Ox Yoke Inn located in the Amanas which will feature all the w
 ell known Amana fixings! Be sure to bring along your appetite for this inc
 redible "yummy" meal!\n\nOur motor coach will then take us to Old Creamery
  Theatre for "A Tribute to Reba McEntire" with Corrie Sachs who is the #1 
 Reba McEntire tribute artist and impersonator in Las Vegas\, and stars in 
 the award-winning show “Country Superstars Tribute Show” at Bally’s 
 Hotel &amp\; Casino. Winner of the 2011 “Tribute Act of the Year”\, Co
 rrie looks and sounds like Reba and is widely considered one of the best R
 eba tribute artists in the country. This will be her first visit to the Ol
 d Creamery Theatre.\n\nBe sure to sign up early as this will be a popular 
 trip! Hope to have you join us for this fun evening with great good &amp\;
  spectacular music!\n\nDepart:  4:00 p.m.\n\nReturn:  10:30 p.m.\n\nCost
  Per Person:  $118.00\n\nReservation and payment due by October 8\, 2019 
ATTACH;FMTTYPE=image/jpeg:https://jhtraveltours.com/wp-content/uploads/201
 9/01/Reba2019.png
CATEGORIES:Day Trip
END:VEVENT
BEGIN:VTIMEZONE
TZID:America/Chicago
X-LIC-LOCATION:America/Chicago
BEGIN:STANDARD
DTSTART:20191103T010000
TZOFFSETFROM:-0500
TZOFFSETTO:-0600
TZNAME:CST
END:STANDARD
END:VTIMEZONE
END:VCALENDAR