BEGIN:VCALENDAR
VERSION:2.0
PRODID:-//wp-events-plugin.com//7.2.3.1//EN
TZID:America/Chicago
X-WR-TIMEZONE:America/Chicago
BEGIN:VEVENT
UID:249@jhtraveltours.com
DTSTART;TZID=America/Chicago:20181025T121500
DTEND;TZID=America/Chicago:20181025T190000
DTSTAMP:20180109T012607Z
URL:https://jhtraveltours.com/events/addams-family-new-musical-comedy/
SUMMARY:The Addams Family: A New Musical Comedy - #_LOCATIONNAME - 25 Oct 1
 8 12:15
DESCRIPTION:A matinee show at Old Creamery will begin our fun afternoon fol
 lowed by a meal at Ronnenburg Restaurant in Amana\, Iowa.\n\nJoin your fav
 orite creepy\, cooky\, mysterious and spooky family for this madcap musica
 l adventure! When teenage daughter Wednesday brings her straight-laced Mid
 western boyfriend and his parents home for dinner at the mansion\, nothing
  will ever be the same for… the Addams family. *Snap\, snap.*\n\nOur eve
 ning meal will be hosted at Ronnenburg Restaurant with all your Amana favo
 rite fixings! From the Amana Ham &amp\; Oven Baked Steak to the Skillet Fr
 ied Potatoes with a choice of cream pies!\n\nCost Per Person: $109.00\n\nR
 eservation and payment due by October 3\, 2018
ATTACH;FMTTYPE=image/jpeg:https://jhtraveltours.com/wp-content/uploads/201
 8/01/AddamsFamily_Header.png
CATEGORIES:Day Trip
END:VEVENT
BEGIN:VTIMEZONE
TZID:America/Chicago
X-LIC-LOCATION:America/Chicago
BEGIN:DAYLIGHT
DTSTART:20180311T030000
TZOFFSETFROM:-0600
TZOFFSETTO:-0500
TZNAME:CDT
END:DAYLIGHT
END:VTIMEZONE
END:VCALENDAR