BEGIN:VCALENDAR
VERSION:2.0
PRODID:-//wp-events-plugin.com//7.2.3.1//EN
TZID:America/Chicago
X-WR-TIMEZONE:America/Chicago
BEGIN:VEVENT
UID:489@jhtraveltours.com
DTSTART;TZID=America/Chicago;VALUE=DATE:20270710
DTEND;TZID=America/Chicago;VALUE=DATE:20270720
DTSTAMP:20260424T184249Z
URL:https://jhtraveltours.com/events/alaska-the-great-land/
SUMMARY:Alaska the Great Land - #_LOCATIONNAME - 10 Jul 27 00:00
DESCRIPTION:[pdf-embedder url="https://jhtraveltours.com/wp-content/uploads
 /2026/04/JH-Travel-Alaska.pdf" title="JH Travel Alaska"]
ATTACH;FMTTYPE=image/jpeg:https://jhtraveltours.com/wp-content/uploads/202
 6/04/alaska.png
CATEGORIES:Extended Trip
END:VEVENT
BEGIN:VTIMEZONE
TZID:America/Chicago
X-LIC-LOCATION:America/Chicago
BEGIN:DAYLIGHT
DTSTART:20270314T030000
TZOFFSETFROM:-0600
TZOFFSETTO:-0500
TZNAME:CDT
END:DAYLIGHT
END:VTIMEZONE
END:VCALENDAR