BEGIN:VCALENDAR
VERSION:2.0
PRODID:-//wp-events-plugin.com//7.2.3.1//EN
TZID:America/Chicago
X-WR-TIMEZONE:America/Chicago
BEGIN:VEVENT
UID:184@jhtraveltours.com
DTSTART;TZID=America/Chicago;VALUE=DATE:20161128
DTEND;TZID=America/Chicago;VALUE=DATE:20161203
DTSTAMP:20160214T053817Z
URL:https://jhtraveltours.com/events/american-country-christmas/
SUMMARY:American Country Christmas - #_LOCATIONNAME - 28 Nov 16 00:00
DESCRIPTION:Celebrate the holiday season in Louisville\, Nashville and St. 
 Louis with a variety of entertainment\, awesome seasonal decorations along
  with great dining options! Our trip is highlighted by a two night stay at
  the spectacular Gaylord Opryland Resort.
ATTACH;FMTTYPE=image/jpeg:https://jhtraveltours.com/wp-content/uploads/201
 6/02/American-Country-Christmas.jpg
CATEGORIES:Extended Trip
END:VEVENT
BEGIN:VTIMEZONE
TZID:America/Chicago
X-LIC-LOCATION:America/Chicago
BEGIN:STANDARD
DTSTART:20161106T010000
TZOFFSETFROM:-0500
TZOFFSETTO:-0600
TZNAME:CST
END:STANDARD
END:VTIMEZONE
END:VCALENDAR