BEGIN:VCALENDAR
VERSION:2.0
PRODID:-//wp-events-plugin.com//7.2.3.1//EN
TZID:America/Chicago
X-WR-TIMEZONE:America/Chicago
BEGIN:VEVENT
UID:66@jhtraveltours.com
DTSTART;TZID=America/Chicago:20130413T074500
DTEND;TZID=America/Chicago:20130414T194500
DTSTAMP:20121006T020304Z
URL:https://jhtraveltours.com/events/an-iowa-wine-trail/
SUMMARY:An Iowa Wine Trail - #_LOCATIONNAME - 13 Apr 13 07:45
DESCRIPTION:Join JH Travel on a relaxing spring weekend getaway celebrating
  that we are getting close to warmer weather and planning outside activiti
 es! So\, why not join JH Travel for a wine\, food &amp\; meeting new frien
 ds! Great time for couples as well as a ladies weekend getaway!\n\nThis is
  our first wine tour and we look forward to having you join us! We will be
 gin by boarding the Hawkeye Stages motor coach and traveling to the Brick 
 Arch Winery in West Branch where a wine tasting\, sharing winery experienc
 es\, learn what type of wine to serve with which food\, tour and of course
 . . .  wine tasting will occur! The Sutliff Cider Co in Lisbon is next to
  observe how their hard cider is made out of apples versus grapes with 6% 
 alcohol content.  Carbonated like beer and a natural drink that is gainin
 g popularity and has become a trendy drink! Lunch will be served at Daly C
 reek Winery &amp\; Bistro in Anamosa before a tour\, tasting and gift shop
  time.  Tabor Home Winery outside of Baldwin will host our group next whi
 ch has won many gold medals and “Best of Class” international wine com
 petition.  Hum. . smell the wood oven pizza? Our final winery stop for th
 e day will to visit Park Farm Winery in Bankston where we will have tastin
 g\, tour and best of all their wood oven pizza before arriving at overnigh
 t accommodations in Dubuque at Hotel Julien.\n\nAfter a buffet breakfast w
 e depart the hotel to arrive at Eagles Landing Bed &amp\; Breakfast and Wi
 nery residing on the breathtakingly scenic Great River Road in the little 
 river town of Marquette where we will sample International Award winning w
 ines followed by lunch.  Winneshiek Wildberry Winery greets us in the rol
 ling hills of Northeast Iowa specializing in fruit and table wines where w
 e will have a tasting\, tour and shopping time.  Our last winery to visit
  on our weekend getaway will be Engelbrecht Family Winery in Fredricksburg
  for a tour &amp\; tasting followed by an early evening meal before depart
 ing back to Newton.\n\nLook forward to having you join JH Travel for a won
 derful wine weekend getaway!\n\nTour includes:  motor coach transportatio
 n\, overnight accommodations at Hotel Julien\, 5 meals (1buffet breakfast\
 , 2 lunches and 2 evening meals)\, all taxes and gratuities on the above m
 entioned attractions.  And\, all the fun along the way!
CATEGORIES:Short Trip
END:VEVENT
BEGIN:VTIMEZONE
TZID:America/Chicago
X-LIC-LOCATION:America/Chicago
BEGIN:DAYLIGHT
DTSTART:20130310T030000
TZOFFSETFROM:-0600
TZOFFSETTO:-0500
TZNAME:CDT
END:DAYLIGHT
END:VTIMEZONE
END:VCALENDAR