BEGIN:VCALENDAR
VERSION:2.0
PRODID:-//wp-events-plugin.com//7.2.3.1//EN
TZID:America/Chicago
X-WR-TIMEZONE:America/Chicago
BEGIN:VEVENT
UID:244@jhtraveltours.com
DTSTART;TZID=America/Chicago;VALUE=DATE:20180723
DTEND;TZID=America/Chicago;VALUE=DATE:20180728
DTSTAMP:20171013T124936Z
URL:https://jhtraveltours.com/events/ark-encounter-creation-museum-2018/
SUMMARY:The Ark Encounter & Creation Museum 2018 - #_LOCATIONNAME - 23 Jul 
 18 00:00
DESCRIPTION:\n\nYour Trip Includes:\n\n 	Motorcoach transportation\n 	Motor
 coach transportation\n 	4 nights lodging\n 	8 meals: 4 breakfasts and 4 di
 nners\n 	Admission to the New\, Stunning – ARK ENCOUNTER!\n 	Admission t
 o the Famous CREATION MUSEUM\n 	Admission to the NEWPORT AQUARIUM\n 	Admis
 sion to the CINCINNATI ZOO &amp\; BOTANICAL GARDENS\n 	and much more\n\n[g
 view file="https://jhtraveltours.com//wp-content/uploads/2017/10/1392368-5
 A1300_1.pdf"]\n\n[gview file="https://jhtraveltours.com//wp-content/upload
 s/2017/10/Inshell-1.pdf"]
ATTACH;FMTTYPE=image/jpeg:https://jhtraveltours.com/wp-content/uploads/201
 7/10/Ark2018.png
CATEGORIES:Short Trip
END:VEVENT
BEGIN:VTIMEZONE
TZID:America/Chicago
X-LIC-LOCATION:America/Chicago
BEGIN:DAYLIGHT
DTSTART:20180311T030000
TZOFFSETFROM:-0600
TZOFFSETTO:-0500
TZNAME:CDT
END:DAYLIGHT
END:VTIMEZONE
END:VCALENDAR