BEGIN:VCALENDAR
VERSION:2.0
PRODID:-//wp-events-plugin.com//7.2.3.1//EN
TZID:America/Chicago
X-WR-TIMEZONE:America/Chicago
BEGIN:VEVENT
UID:208@jhtraveltours.com
DTSTART;TZID=America/Chicago;VALUE=DATE:20170807
DTEND;TZID=America/Chicago;VALUE=DATE:20170812
DTSTAMP:20161018T023706Z
URL:https://jhtraveltours.com/events/ark-encounter-creation-museum/
SUMMARY:The Ark Encounter & Creation Museum - #_LOCATIONNAME - 7 Aug 17 00:
 00
DESCRIPTION:\n\nYour Trip Includes:\n\n 	Motorcoach transportation\n 	4 nig
 hts lodging\n 	8 meals: 4 breakfasts and 4 dinners\n 	Admission to the New
 \, Stunning – ARK ENCOUNTER!\n 	Admission to the Famous CREATION MUSEUM\
 n 	Exclusive Diamond Tours® Dinner Party with Entertainment\n 	Admission 
 to the Top-Rated NEWPORT AQUARIUM\n 	Admission to the NATIONAL UNDERGROUND
  RAILROAD FREEDOM CENTER\n 	and much more\n\n[gview file="https://jhtravel
 tours.com//wp-content/uploads/2016/10/ArkEncounter.pdf"]\n\n[gview file="h
 ttps://jhtraveltours.com//wp-content/uploads/2016/10/ArkEncounter_Terms.pd
 f"]
ATTACH;FMTTYPE=image/jpeg:https://jhtraveltours.com/wp-content/uploads/201
 6/10/ArkEncounter225.png
CATEGORIES:Short Trip
END:VEVENT
BEGIN:VTIMEZONE
TZID:America/Chicago
X-LIC-LOCATION:America/Chicago
BEGIN:DAYLIGHT
DTSTART:20170312T030000
TZOFFSETFROM:-0600
TZOFFSETTO:-0500
TZNAME:CDT
END:DAYLIGHT
END:VTIMEZONE
END:VCALENDAR