BEGIN:VCALENDAR
VERSION:2.0
PRODID:-//wp-events-plugin.com//7.2.3.1//EN
TZID:America/Chicago
X-WR-TIMEZONE:America/Chicago
BEGIN:VEVENT
UID:265@jhtraveltours.com
DTSTART;TZID=America/Chicago:20181003T070000
DTEND;TZID=America/Chicago:20181003T201500
DTSTAMP:20180713T181154Z
URL:https://jhtraveltours.com/events/autumn-mystery-trip-2/
SUMMARY:Autumn Mystery Trip - #_LOCATIONNAME - 3 Oct 18 07:00
DESCRIPTION:We are very excited to offer this "Autumn Mystery Trip" and loo
 king forward to sharing the day with you!\n\nWe are headed out of town. . 
 . . . . East\, West\, North or South?? Our first stop will provide coffee 
 &amp\; rolls for a morning snack\, a tour of this "center" where kids work
  with ????. Get ready for a little hands on project that promises to be fu
 n and "rock hard" to display! We depart our first attraction to board ??? 
 to view some beautiful\, colorful Iowa leaves and landscape (hoping that M
 other Nature cooperates with us). Relax and sit back with a catered lunch 
 to enjoy the day and visit with friends! Our next attraction puts a whole 
 new meaning to "under pressure" as we learn about this family owned busine
 ss and how the products are made and marketed and we HOPE that no one gets
  a bit of a bath! A "little music to your ears" as we enjoy a variety of m
 usic that is played by this beautiful ?????. Free time follows downtown an
 d of course we don't want you to go hungry so all of you "Prince &amp\; Pr
 incesses" should have a wonderful\, yummy sundae for a little break in the
  day! We will then "Tap" you on the shoulder to remind you that it is time
  to visit our last stop before leaving this picturesque city! This stop is
  known far &amp\; wide for their ??? where we will have a salad\, an array
  of ?? to choose from along with soda and a light dessert before heading b
 ack to Newton.\n\nKeep in mind that we can only take 39 travelers on this 
 adventure due to the size of attractions! Sign up soon as this will be a m
 emorable experience! \n\nDepart:  7:00 a.m.\nReturn:  8:15 p.m.\n\nCost 
 Per Person:  $157.00\n\nReservation and payment due by September 14\, 201
 8 
ATTACH;FMTTYPE=image/jpeg:https://jhtraveltours.com/wp-content/uploads/201
 8/06/Autumn-Mystery-2018.png
CATEGORIES:Day Trip
END:VEVENT
BEGIN:VTIMEZONE
TZID:America/Chicago
X-LIC-LOCATION:America/Chicago
BEGIN:DAYLIGHT
DTSTART:20180311T030000
TZOFFSETFROM:-0600
TZOFFSETTO:-0500
TZNAME:CDT
END:DAYLIGHT
END:VTIMEZONE
END:VCALENDAR