BEGIN:VCALENDAR
VERSION:2.0
PRODID:-//wp-events-plugin.com//7.2.3.1//EN
TZID:America/Chicago
X-WR-TIMEZONE:America/Chicago
BEGIN:VEVENT
UID:223@jhtraveltours.com
DTSTART;TZID=America/Chicago:20170921T074500
DTEND;TZID=America/Chicago:20170921T203000
DTSTAMP:20170215T023817Z
URL:https://jhtraveltours.com/events/autumn-mystery-trip/
SUMMARY:Autumn Mystery Trip - #_LOCATIONNAME - 21 Sep 17 07:45
DESCRIPTION:September 21\, 2017 (Thursday)\n\n\n\nLions\, Tigers &amp\; Bea
 rs! No\, not really but you won't want to miss this mystery trip as we wil
 l be visiting some very talented animals! Our day will begin with an "insp
 iring" stop for turnovers &amp\; a drink for a morning snack followed by d
 ividing up the travelers with one group discovering "an all aboard" busine
 ss in Iowa with a short program &amp\; tour. The other half of the group w
 ill be learning the abilities of some beautiful animals that will amaze ev
 eryone! Hope you bring along your appetite as an Amish meal is next on the
  itinerary with lots of "yummy" food!\n\nOur first stop in the afternoon w
 ill be very meaningful with a very special monument located in the nation
 ’s heartland which honors all veterans. A step on guide will give us the
  history and how funds were gathered to make this dream come to reality fo
 r veterans. Following the program some free time downtown and even have a 
 hands on project planned for everyone! Our last stop will be an evening me
 al which will be a "honey" of a meal before departing back to Newton with 
 great memories of our "Autumn Mystery Trip"!\n\nKeep in mind that we can o
 nly take 42 travelers on this adventure due to the size of attractions! Si
 gn up soon as this will be a fun experience!\n\nDepart: 7:45 a.m.\nReturn:
  8:30 p.m.\n\nCost Per Person: $143.00\n\nReservation and payment due by S
 eptember 1\, 2017
ATTACH;FMTTYPE=image/jpeg:https://jhtraveltours.com/wp-content/uploads/201
 7/01/Autumn-Mystery-Trip-2017-1.png
CATEGORIES:Day Trip
END:VEVENT
BEGIN:VTIMEZONE
TZID:America/Chicago
X-LIC-LOCATION:America/Chicago
BEGIN:DAYLIGHT
DTSTART:20170312T030000
TZOFFSETFROM:-0600
TZOFFSETTO:-0500
TZNAME:CDT
END:DAYLIGHT
END:VTIMEZONE
END:VCALENDAR