BEGIN:VCALENDAR
VERSION:2.0
PRODID:-//wp-events-plugin.com//7.2.3.1//EN
TZID:America/Chicago
X-WR-TIMEZONE:America/Chicago
BEGIN:VEVENT
UID:247@jhtraveltours.com
DTSTART;TZID=America/Chicago:20181128T121500
DTEND;TZID=America/Chicago:20181128T190000
DTSTAMP:20171030T032955Z
URL:https://jhtraveltours.com/events/away-basement-church-basement-ladies-
 christmas/
SUMMARY:Away in the Basement: A Church Basement Ladies Christmas - #_LOCATI
 ONNAME - 28 Nov 18 12:15
DESCRIPTION:This is the last show in 2018 for us at the Old Creamery Theatr
 e's Main Stage and looking forward to traveling with you for this afternoo
 n of comedy &amp\; great food! \nOn the day of the church Christmas pagean
 t\, anything that can go wrong probably will… it’s the Church Basement
  Ladies to the rescue! All your favorite ladies are back\, bringing festiv
 ities and fun to this wildly popular holiday installment of the Church Bas
 ement Ladies Series! \nAfter this matinee show Ox Yoke Inn will host our e
 vening meal before traveling back to Newton with fond memories of our day!
  \nDepart: 12:15 p.m. \nReturn:  7:00 p.m. \nCost Per Person:  $109.00 \
 n&nbsp\;\nReservation and payment due by November 8\, 2018 
ATTACH;FMTTYPE=image/jpeg:https://jhtraveltours.com/wp-content/uploads/201
 7/10/Awayinthebasement_slide.jpg
CATEGORIES:Day Trip
END:VEVENT
BEGIN:VTIMEZONE
TZID:America/Chicago
X-LIC-LOCATION:America/Chicago
BEGIN:STANDARD
DTSTART:20181104T010000
TZOFFSETFROM:-0500
TZOFFSETTO:-0600
TZNAME:CST
END:STANDARD
END:VTIMEZONE
END:VCALENDAR