BEGIN:VCALENDAR
VERSION:2.0
PRODID:-//wp-events-plugin.com//7.2.3.1//EN
TZID:America/Chicago
X-WR-TIMEZONE:America/Chicago
BEGIN:VEVENT
UID:62@jhtraveltours.com
DTSTART;TZID=America/Chicago:20121220T103000
DTEND;TZID=America/Chicago:20121220T173000
DTSTAMP:20120828T040440Z
URL:https://jhtraveltours.com/events/away-in-the-basement-a-church-basemen
 t-ladies-christmas/
SUMMARY:Away In the Basement – A Church Basement Ladies Christmas - #_LOC
 ATIONNAME - 20 Dec 12 10:30
DESCRIPTION:Audiences fell in love with Church Basement Ladies and A Second
  Helping:  A Church Basement Ladies Sequel and now get ready for another 
 lesson in making the church basement ladies a memorable visit in your hear
 ts!
CATEGORIES:Day Trip
END:VEVENT
BEGIN:VTIMEZONE
TZID:America/Chicago
X-LIC-LOCATION:America/Chicago
BEGIN:STANDARD
DTSTART:20121104T010000
TZOFFSETFROM:-0500
TZOFFSETTO:-0600
TZNAME:CST
END:STANDARD
END:VTIMEZONE
END:VCALENDAR