BEGIN:VCALENDAR
VERSION:2.0
PRODID:-//wp-events-plugin.com//7.2.3.1//EN
TZID:America/Chicago
X-WR-TIMEZONE:America/Chicago
BEGIN:VEVENT
UID:316@jhtraveltours.com
DTSTART;TZID=America/Chicago:20191214T094500
DTEND;TZID=America/Chicago:20191214T174500
DTSTAMP:20190809T024012Z
URL:https://jhtraveltours.com/events/bandstand/
SUMMARY:Bandstand - #_LOCATIONNAME - 14 Dec 19 09:45
DESCRIPTION:December 14\, 2019 (Saturday)\n\n\n\nJoin JH Travel for a three
 -time Tony® winner and Hamilton choreographer\, Andy Blankenbuehler\, com
 es an inspiring new American musical that explodes with infectious music a
 nd high-octane\, heart-stopping dancing.\n\nIt’s 1945\, and six soldiers
  return from war to a changed nation. When NBC announces a national compet
 ition to find the nation’s next great musical superstars\, they form a b
 and unlike any the nation has ever seen. Along the way\, they discover the
  power of music to face the impossible\, find their voice\, and finally fe
 el like they have a place to call home.\n\nPrior to the show Red Lobster i
 n Urbandale\, IA will host our group with a variety of 10 main entrees to 
 choose from along with a salad\, various side options\, cheese biscuits (y
 ummy!)\, non alcoholic drink and of course dessert!\n\nDon't miss this mus
 ical and dancing performance with JH Travel!\n\nDepart:  9:45 a.m.\n\nRet
 urn:  5:45 p.m.\n\nCost Per Person: $169.00\n\nReservation and payment du
 e by October 21\, 2019
ATTACH;FMTTYPE=image/jpeg:https://jhtraveltours.com/wp-content/uploads/201
 9/08/Trip-Header-2019.png
CATEGORIES:Day Trip
END:VEVENT
BEGIN:VTIMEZONE
TZID:America/Chicago
X-LIC-LOCATION:America/Chicago
BEGIN:STANDARD
DTSTART:20191103T010000
TZOFFSETFROM:-0500
TZOFFSETTO:-0600
TZNAME:CST
END:STANDARD
END:VTIMEZONE
END:VCALENDAR