BEGIN:VCALENDAR
VERSION:2.0
PRODID:-//wp-events-plugin.com//7.2.3.1//EN
TZID:America/Chicago
X-WR-TIMEZONE:America/Chicago
BEGIN:VEVENT
UID:363@jhtraveltours.com
DTSTART;TZID=America/Chicago:20220601T091500
DTEND;TZID=America/Chicago:20220601T183000
DTSTAMP:20220122T033427Z
URL:https://jhtraveltours.com/events/beauty-the-beast/
SUMMARY:Beauty & the Beast - #_LOCATIONNAME - 1 Jun 22 09:15
DESCRIPTION:A matinee filled with amazing music\, spectacular costumes and 
 dazzling sets in the production of "Beauty &amp\; the Beast" with the "tal
 e as old as time"! This awesome production will be shown  at Circa 21 Din
 ner Theatre in Rock Island\, IL.\n\nStep into the enchanted world of Broad
 way’s modern classic\, Disney’s Beauty and the Beast\, an internationa
 l sensation that played a remarkable 13-year run on Broadway\, was nominat
 ed for nine Tony Awards\, including Best Musical\, and has been produced i
 n 37 countries worldwide.\n\nThe classic story tells of Belle\, a young wo
 man in a provincial town\, and the Beast\, who is really a young prince tr
 apped under the spell of an enchantress. If the Beast can learn to love a
 nd be loved\, the curse will end and he will be transformed into his forme
 r self. But time is running out. If the Beast does not learn his lesson so
 on\, he and his household will be doomed for all eternity.\n\n​Be sure t
 o make your reservations soon as this will be a popular trip!\n\n&nbsp\;\n
 \nDepart:  9:15 a.m.\n\nReturn:  6:30 p.m.\n\n&nbsp\;\n\nCost Per Person
 : $152.00\n\nReservation and payment due by April 27\, 2022 
CATEGORIES:Day Trip
END:VEVENT
BEGIN:VTIMEZONE
TZID:America/Chicago
X-LIC-LOCATION:America/Chicago
BEGIN:DAYLIGHT
DTSTART:20220313T030000
TZOFFSETFROM:-0600
TZOFFSETTO:-0500
TZNAME:CDT
END:DAYLIGHT
END:VTIMEZONE
END:VCALENDAR