BEGIN:VCALENDAR
VERSION:2.0
PRODID:-//wp-events-plugin.com//7.2.3.1//EN
TZID:America/Chicago
X-WR-TIMEZONE:America/Chicago
BEGIN:VEVENT
UID:343@jhtraveltours.com
DTSTART;TZID=America/Chicago:20210609T091500
DTEND;TZID=America/Chicago:20210609T184500
DTSTAMP:20210330T021512Z
URL:https://jhtraveltours.com/events/beehive/
SUMMARY:Beehive - #_LOCATIONNAME - 9 Jun 21 09:15
DESCRIPTION:Enjoy 60's music? This is a great show - so call a friend and h
 ave a musical &amp\; awesome "day away"! Join JH Travel for lunch &amp\; a
  fun matinee stage performance at Circa 21 Dinner Playhouse!\n\nA '60s Fla
 shback That's Sealed With A Kiss! A fun\,  frothy flashback to the fabulo
 us females who unmistakably left their mark on 1960s pop music\, Matches b
 ig voices with big hairdos\, Beehive features non-stop hits from early dec
 ade bubble gum classics to the explosive late ‘60s soul sound. Paying tr
 ibute to performers such as Brenda Lee\, The Supremes\, Connie Francis\, J
 anis Joplin\, Tina Turner\, and Aretha Franklin\, this irresistible revue 
 will fly you back in time to experience firsthand the music that thrilled 
 a generation. Come rock out with “Respect\,” “Natural Woman\,” “
 My Boyfriend’s Back\,” “One Fine Day\,” “Downtown” and more! W
 ith two dozen beloved hits\, the show takes you on a journey through song\
 , documenting the dramatic changes that America underwent during the ‘60
 s. If you like 50s and 60s music\, BEEHIVE The ‘60s Musical will have yo
 u dancing in your seats and coming back for more!\n\nThis will be a popula
 r show! So\, don't wait too long to make those reservations!\n\n&nbsp\;\n\
 nDepart:  9:15 a.m.\n\nReturn: 6:45 p.m.\n\nCost Per Person:  $145.00\n\
 nReservation and payment due by May 3\, 2021
ATTACH;FMTTYPE=image/jpeg:https://jhtraveltours.com/wp-content/uploads/202
 1/03/Beehive.jpg
CATEGORIES:Day Trip
END:VEVENT
BEGIN:VTIMEZONE
TZID:America/Chicago
X-LIC-LOCATION:America/Chicago
BEGIN:DAYLIGHT
DTSTART:20210314T030000
TZOFFSETFROM:-0600
TZOFFSETTO:-0500
TZNAME:CDT
END:DAYLIGHT
END:VTIMEZONE
END:VCALENDAR