BEGIN:VCALENDAR
VERSION:2.0
PRODID:-//wp-events-plugin.com//7.2.3.1//EN
TZID:America/Chicago
X-WR-TIMEZONE:America/Chicago
BEGIN:VEVENT
UID:32@jhtraveltours.com
DTSTART;TZID=America/Chicago:20120617T100000
DTEND;TZID=America/Chicago:20120617T161500
DTSTAMP:20120318T021857Z
URL:https://jhtraveltours.com/events/billy-elliot-the-musical/
SUMMARY:Billy Elliot The Musical - #_LOCATIONNAME - 17 Jun 12 10:00
DESCRIPTION:Join JH Travel for an awesome Sunday afternoon that includes a 
 meal at the Renaissance Savery that will host a buffet for our group and t
 hen onto the Civic Center of Greater Des Moines for an afternoon matinee!\
 n\nBILLY ELLIOT THE MUSICAL is the joyous celebration of one boy's journey
  to make his dreams come true. Set in a small town\, the story follows Bil
 ly as he stumbles out of the boxing ring and into a ballet class\, discove
 ring a surprising passion that inspires his family and his whole community
 .
CATEGORIES:Day Trip
LOCATION:#_LOCATIONNAME\, #_LOCATIONFULLLINE\, #_LOCATIONCOUNTRY
GEO:41.5869;-93.62
X-APPLE-STRUCTURED-LOCATION;VALUE=URI;X-ADDRESS=#_LOCATIONFULLLINE\, #_LOCA
 TIONCOUNTRY;X-APPLE-RADIUS=100;X-TITLE=#_LOCATIONNAME:geo:41.5869,-93.62
END:VEVENT
BEGIN:VTIMEZONE
TZID:America/Chicago
X-LIC-LOCATION:America/Chicago
BEGIN:DAYLIGHT
DTSTART:20120311T030000
TZOFFSETFROM:-0600
TZOFFSETTO:-0500
TZNAME:CDT
END:DAYLIGHT
END:VTIMEZONE
END:VCALENDAR