BEGIN:VCALENDAR
VERSION:2.0
PRODID:-//wp-events-plugin.com//7.2.3.1//EN
TZID:America/Chicago
X-WR-TIMEZONE:America/Chicago
BEGIN:VEVENT
UID:280@jhtraveltours.com
DTSTART;TZID=America/Chicago:20191110T080000
DTEND;TZID=America/Chicago:20191115T200000
DTSTAMP:20181016T032808Z
URL:https://jhtraveltours.com/events/biltmoreestate/
SUMMARY:Biltmore Estate & Asheville\, North Carolina 2019 - #_LOCATIONNAME 
 - 10 Nov 19 08:00
DESCRIPTION:[gview file="https://jhtraveltours.com/wp-content/uploads/2018/
 10/1456358-6I08061303_1.pdf"]\n\n[gview file="https://jhtraveltours.com/wp
 -content/uploads/2018/10/TravelInsuranceFlyer-1.pdf"]
ATTACH;FMTTYPE=image/jpeg:https://jhtraveltours.com/wp-content/uploads/201
 8/10/Ashville.png
CATEGORIES:Short Trip
END:VEVENT
BEGIN:VTIMEZONE
TZID:America/Chicago
X-LIC-LOCATION:America/Chicago
BEGIN:STANDARD
DTSTART:20191103T010000
TZOFFSETFROM:-0500
TZOFFSETTO:-0600
TZNAME:CST
END:STANDARD
END:VTIMEZONE
END:VCALENDAR