BEGIN:VCALENDAR
VERSION:2.0
PRODID:-//wp-events-plugin.com//7.2.3.1//EN
TZID:America/Chicago
X-WR-TIMEZONE:America/Chicago
BEGIN:VEVENT
UID:253@jhtraveltours.com
DTSTART;TZID=America/Chicago:20181129T091500
DTEND;TZID=America/Chicago:20181129T181500
DTSTAMP:20180126T171304Z
URL:https://jhtraveltours.com/events/blue-christmas-rock-n-roll-holiday-ex
 travaganza/
SUMMARY:BLUE CHRISTMAS: A ROCK 'N' ROLL HOLIDAY EXTRAVAGANZA - #_LOCATIONNA
 ME - 29 Nov 18 09:15
DESCRIPTION:Get into the holiday spirit! Join JH Travel for this matinee sh
 ow done by Robert Shaw ("How Great Thou Art") whom we saw in 2017 &amp\; 2
 018 as Bobby Darin &amp\; Johnny Cash!\n\n\nThe Holidays were always a ver
 y special time for The King of Rock n’ Roll. For Elvis\, the holidays me
 ant a time of sharing with friends\, family\, and even complete strangers!
  No expense was spared when it came to decorating Graceland for Christmas\
 , and Elvis took the same approach when it came time to record holiday mus
 ic. During his lifetime\, he released three albums of songs to celebrate 
 the season\, which have since been re-packaged and re-configured many ways
 .\n\nThis heart-warming show features some of The King's best loved holida
 y favorites mixed in with a healthy dose of top hits from throughout his c
 areer.\n\nDepart:  9:15 a.m.\n\nReturn:  6:15 p.m.\n\nCost Per Person: $
 141.00\n\nReservation and payment due by October 22\, 2018 
ATTACH;FMTTYPE=image/jpeg:https://jhtraveltours.com/wp-content/uploads/201
 8/01/Elvis-Header.png
CATEGORIES:Day Trip
END:VEVENT
BEGIN:VTIMEZONE
TZID:America/Chicago
X-LIC-LOCATION:America/Chicago
BEGIN:STANDARD
DTSTART:20181104T010000
TZOFFSETFROM:-0500
TZOFFSETTO:-0600
TZNAME:CST
END:STANDARD
END:VTIMEZONE
END:VCALENDAR