BEGIN:VCALENDAR
VERSION:2.0
PRODID:-//wp-events-plugin.com//7.2.3.1//EN
TZID:America/Chicago
X-WR-TIMEZONE:America/Chicago
BEGIN:VEVENT
UID:256@jhtraveltours.com
DTSTART;TZID=America/Chicago:20180920T053000
DTEND;TZID=America/Chicago:20180923T200000
DTSTAMP:20180125T153346Z
URL:https://jhtraveltours.com/events/branson-autumn-hills/
SUMMARY:Branson - Autumn in the Hills - #_LOCATIONNAME - 20 Sep 18 05:30
DESCRIPTION:&nbsp\;\n\nJoin JH Travel for an autumn trip to Branson! We hav
 e been asked several times to offer a trip in September - so come along an
 d join the fun! The College of the Ozarks tour will include the new staine
 d glass studio as well as the jelly &amp\; fruitcake areas and see the man
 y animals while riding along in the tram at Dogwood Canyon! Incredible sta
 ging\, acting &amp\; music at the Sight &amp\; Sound Theatre bring Samson'
 s story alive!  This trip offers a variety of shows &amp\; attractions wh
 ich are listed below:\n\n 	Samson\n 	Branson Belle Dinner Cruise\n 	Dogwoo
 d Canyon tram tour\n 	College of the Ozarks tour\n 	The Haygood Family Sho
 w\n 	Country Barn\n 	Billy Yates Hit Songwriters in the Round\n 	#1 Hits o
 f the 60's &amp\; 50's!\n 	Historic Downtown Branson\n\nTour includes:  m
 otor coach transportation with driver tip\, overnight accommodations at Br
 ick House Hotel\, 6 meals (3 continental breakfasts &amp\; 3 dinners)\, al
 l taxes &amp\; gratuities included on the shows &amp\; the 6 meals include
 d.  And\, all the fun along the way!\n\nDepart:  5:30 a.m. - September 2
 0\, 2018\n\nReturn:  8:00 p.m. - September 23\, 2018\n\nCost Per Person:\
 n\n 	$649.00 Quad\n 	$669.00 Triple\n 	$699.00 Double\n 	$809.00 Single\n\
 nA deposit of $100.00 is due at the time of reservation .  The final bala
 nce is due by August 10\, 2018.
ATTACH;FMTTYPE=image/jpeg:https://jhtraveltours.com/wp-content/uploads/201
 8/01/Branson2018.png
CATEGORIES:Short Trip
END:VEVENT
BEGIN:VTIMEZONE
TZID:America/Chicago
X-LIC-LOCATION:America/Chicago
BEGIN:DAYLIGHT
DTSTART:20180311T030000
TZOFFSETFROM:-0600
TZOFFSETTO:-0500
TZNAME:CDT
END:DAYLIGHT
END:VTIMEZONE
END:VCALENDAR