BEGIN:VCALENDAR
VERSION:2.0
PRODID:-//wp-events-plugin.com//7.2.3.1//EN
TZID:America/Chicago
X-WR-TIMEZONE:America/Chicago
BEGIN:VEVENT
UID:177@jhtraveltours.com
DTSTART;TZID=America/Chicago:20160714T121500
DTEND;TZID=America/Chicago:20160714T184500
DTSTAMP:20160110T212426Z
URL:https://jhtraveltours.com/events/branson-on-the-road-salute-to-america
 /
SUMMARY:Branson on the Road:  Salute to America - #_LOCATIONNAME - 14 Jul 
 16 12:15
DESCRIPTION:Branson on the Road is bringing a brand new show that they’ve
  never done before to the Old Creamery Theatre! It will celebrate America 
 with their great classic country\, bluegrass\, rockabilly and gospel music
 !  Those seeing a Branson On The Road show can not only expect great musi
 c but plenty of hilarious comedy every step of the way. The show delivers
  the Branson traditions of good\, clean\, family fun wherever they go!\n\n
 Evening meal following the show will be family style at the Ox Yoke Inn wi
 th all your favorite fixing's from the fried chicken\, smoked pork chops\,
  salads\, mashed potatoes all the way to banana cream pie! \n\nDon't wait 
 too long to reserve your spot! We had a full coach the last time we saw th
 is comedy AND musical show! Also\, sit back relax on the coach and enjoy y
 our premium seating reserved only for JH Travel folks at the Old Creamery 
 Theatre! \n\nDepart:  12:15 p.m.\nReturn:  6:45 p.m. \n\nCost Per Person
 :  $103.00 \n\nReservation and payment due by June 24\, 2016
ATTACH;FMTTYPE=image/jpeg:https://jhtraveltours.com/wp-content/uploads/201
 6/01/BransonOnTheRoad_SaluteToAmerica_slide.gif
CATEGORIES:Day Trip
END:VEVENT
BEGIN:VTIMEZONE
TZID:America/Chicago
X-LIC-LOCATION:America/Chicago
BEGIN:DAYLIGHT
DTSTART:20160313T030000
TZOFFSETFROM:-0600
TZOFFSETTO:-0500
TZNAME:CDT
END:DAYLIGHT
END:VTIMEZONE
END:VCALENDAR