BEGIN:VCALENDAR
VERSION:2.0
PRODID:-//wp-events-plugin.com//7.2.3.1//EN
TZID:America/Chicago
X-WR-TIMEZONE:America/Chicago
BEGIN:VEVENT
UID:217@jhtraveltours.com
DTSTART;TZID=America/Chicago:20170629T091500
DTEND;TZID=America/Chicago:20170629T181500
DTSTAMP:20170113T044011Z
URL:https://jhtraveltours.com/events/branson-road-salute-america/
SUMMARY:Branson On The Road - Salute to America - #_LOCATIONNAME - 29 Jun 1
 7 09:15
DESCRIPTION:Musical celebration of songs &amp\; stories about our History\,
  Heroes and Home! The show begins with the founding of the nation and then
  musically moves through some of our great cities and towns with songs lik
 e "Abilene"\, "Detroit City" and "Route 66". “We honor our nation and th
 e people who built it”\, said show producer and performer\, Debbie Horto
 n.  “You’re going to know nearly all of the songs we sing and be surp
 rised too!” Branson On The Road – Salute to America celebrates the str
 ength of the USA and honors our veterans and military families who have gi
 ven so much.  The “Ragged Old Flag” begins a section of the show that
  looks back on a slower\, nostalgic time in our nation.\n\nThis matinee sh
 ow will have you tapping your toe along with the some good ole' music at C
 irca 21 Dinner Playhouse in Rock Island\, IL! Sign up soon as we saw this 
 group at Old Creamery in 2016 and the coach was full!\n\nA wonderful way t
 o stand up and cheer the land we call home.  Branson On The Road - Salute
  to America! See you soon!\n\nDepart:  9:15 a.m.\nReturn:  6:15 p.m.\n\n
 Cost Per Person: $119.00\n\nReservation and payment due by May 19\, 2017
ATTACH;FMTTYPE=image/jpeg:https://jhtraveltours.com/wp-content/uploads/201
 7/01/salutebanner1.png
CATEGORIES:Day Trip
END:VEVENT
BEGIN:VTIMEZONE
TZID:America/Chicago
X-LIC-LOCATION:America/Chicago
BEGIN:DAYLIGHT
DTSTART:20170312T030000
TZOFFSETFROM:-0600
TZOFFSETTO:-0500
TZNAME:CDT
END:DAYLIGHT
END:VTIMEZONE
END:VCALENDAR