BEGIN:VCALENDAR
VERSION:2.0
PRODID:-//wp-events-plugin.com//7.2.3.1//EN
TZID:America/Chicago
X-WR-TIMEZONE:America/Chicago
BEGIN:VEVENT
UID:318@jhtraveltours.com
DTSTART;TZID=America/Chicago:20200402T121500
DTEND;TZID=America/Chicago:20200402T190000
DTSTAMP:20190903T160723Z
URL:https://jhtraveltours.com/events/buddy-the-buddy-holly-story/
SUMMARY:Buddy - The Buddy Holly Story - #_LOCATIONNAME - 2 Apr 20 12:15
DESCRIPTION:\n\nJoin JH Travel for the first "2020" Old Creamery Theatre pr
 oduction and get ready to tap your toe as this music will bring back memor
 ies at this matinee show while we enjoy our favorite front row seating!\n\
 n\n\nThis musical tells the amazing true story of Buddy Holly's rise to fa
 me. The show features over 20 of Buddy Holly's greatest hits including "Th
 at'll Be the Day"\, "Peggy Sue"\, "Everyday"\, "Oh Boy" and many more!\n\n
 Our evening meal will be hosted by Ronnenburg Restaurant with all of our f
 avorite fixings like broasted chicken &amp\; Swiss steak with those yummy 
 fried potatoes and of course. . . dessert!\n\nThis show will be a popular 
 one - so don't wait too long to make those reservations!\n\nDepart:  12:1
 5 p.m.\nReturn:  7:00 p.m.\n\nCost Per Person:  $119.00\n\nReservation a
 nd payment due by March 13\, 2020 
ATTACH;FMTTYPE=image/jpeg:https://jhtraveltours.com/wp-content/uploads/201
 9/09/Buddy-Holly.jpg
CATEGORIES:Day Trip
END:VEVENT
BEGIN:VTIMEZONE
TZID:America/Chicago
X-LIC-LOCATION:America/Chicago
BEGIN:DAYLIGHT
DTSTART:20200308T030000
TZOFFSETFROM:-0600
TZOFFSETTO:-0500
TZNAME:CDT
END:DAYLIGHT
END:VTIMEZONE
END:VCALENDAR