BEGIN:VCALENDAR
VERSION:2.0
PRODID:-//wp-events-plugin.com//7.2.3.1//EN
TZID:America/Chicago
X-WR-TIMEZONE:America/Chicago
BEGIN:VEVENT
UID:34@jhtraveltours.com
DTSTART;TZID=America/Chicago:20120627T131500
DTEND;TZID=America/Chicago:20120627T194500
DTSTAMP:20120318T023612Z
URL:https://jhtraveltours.com/events/busybody/
SUMMARY:Busybody - #_LOCATIONNAME - 27 Jun 12 13:15
DESCRIPTION:A body\, an interfering office cleaner\, and a Chief Inspector 
 with a bad cold and a worse temper make this a side splitting comedy. The 
 cleaning lady\, Mrs. Piper\, lives in the basement of the office building 
 she cleans and one night finds a dead body. More bodies turn up all over t
 he place as Chief Inspector and Constable Goddard try to get to the bottom
  of a mysterious series of events and murder. Mrs. Piper skillfully hinder
 s the investigation. Needless to say confusion occurs when the supposedly 
 dead Mr. Marshall appears very much alive and as unpleasant as ever.\n\nAf
 ter this matinee performance at the Old Creamery Theatre in Amana\, Iowa o
 ur evening meal will be served family style at the Ox Yoke Inn with oven b
 aked steak &amp\; fried chicken along with all the Amana fixin’s!\n\nA c
 omedy show\, a great meal and new friendships made along the way equals a 
 wonderful afternoon &amp\; evening! Join JH Travel for this outing!\n\nRes
 ervation and payment due by June 5\, 2012
CATEGORIES:Day Trip
LOCATION:#_LOCATIONNAME\, #_LOCATIONFULLLINE\, #_LOCATIONCOUNTRY
GEO:41.8063;-91.8843
X-APPLE-STRUCTURED-LOCATION;VALUE=URI;X-ADDRESS=#_LOCATIONFULLLINE\, #_LOCA
 TIONCOUNTRY;X-APPLE-RADIUS=100;X-TITLE=#_LOCATIONNAME:geo:41.8063,-91.8843
END:VEVENT
BEGIN:VTIMEZONE
TZID:America/Chicago
X-LIC-LOCATION:America/Chicago
BEGIN:DAYLIGHT
DTSTART:20120311T030000
TZOFFSETFROM:-0600
TZOFFSETTO:-0500
TZNAME:CDT
END:DAYLIGHT
END:VTIMEZONE
END:VCALENDAR