BEGIN:VCALENDAR
VERSION:2.0
PRODID:-//wp-events-plugin.com//7.2.3.1//EN
TZID:America/Chicago
X-WR-TIMEZONE:America/Chicago
BEGIN:VEVENT
UID:239@jhtraveltours.com
DTSTART;TZID=America/Chicago:20180426T121500
DTEND;TZID=America/Chicago:20180426T184500
DTSTAMP:20170926T031125Z
URL:https://jhtraveltours.com/events/camelot/
SUMMARY:Camelot - #_LOCATIONNAME - 26 Apr 18 12:15
DESCRIPTION:Join JH Travel for the first 2018 Old Creamery matinee producti
 on followed by an evening meal at the Ronnenburg Restaurant in Amana\, IA.
 \n\nHear ye\, hear ye! Gather round for a story filled with chivalry\, val
 or\, and romance\, set to a glorious musical score. Attend the classic tal
 e of King Arthur and his Knights of the Round Table in a search for true l
 ove that transcends the ages.\n\nLooking forward to seeing this ageless pr
 oduction! Hope to have you join us!\n\n\n\nDepart:  12:15 p.m.\n\nReturn:
   6:45 p.m.\n\nCost Per Person: $109.00\n\nReservation and payment due by
  April 5\, 2018 
ATTACH;FMTTYPE=image/jpeg:https://jhtraveltours.com/wp-content/uploads/201
 7/09/Camelot.jpg
CATEGORIES:Day Trip
END:VEVENT
BEGIN:VTIMEZONE
TZID:America/Chicago
X-LIC-LOCATION:America/Chicago
BEGIN:DAYLIGHT
DTSTART:20180311T030000
TZOFFSETFROM:-0600
TZOFFSETTO:-0500
TZNAME:CDT
END:DAYLIGHT
END:VTIMEZONE
END:VCALENDAR