BEGIN:VCALENDAR
VERSION:2.0
PRODID:-//wp-events-plugin.com//7.2.3.1//EN
TZID:America/Chicago
X-WR-TIMEZONE:America/Chicago
BEGIN:VEVENT
UID:281@jhtraveltours.com
DTSTART;TZID=America/Chicago;VALUE=DATE:20190927
DTEND;TZID=America/Chicago;VALUE=DATE:20191008
DTSTAMP:20190507T032525Z
URL:https://jhtraveltours.com/events/cape-cod/
SUMMARY:Cape Cod - #_LOCATIONNAME - 27 Sep 19 00:00
DESCRIPTION:[gview file="https://jhtraveltours.com/wp-content/uploads/2018/
 10/TST-JH-Travel-New-England-Flyer-Proof.pdf"]\n\n 	Day #1 Friday\, Septem
 ber\, 27\, 2019\n“Welcome Aboard” as we travel via deluxe motorcoach t
 o Elyria\, Ohio for our first overnight stay. We’ll get acquainted with 
 our fellow travelers and enjoy activities on board\, hosted by our Tri-St
 ate Travel tour director. Overnight: Elyria\, OH\n 	Day #2 Saturday\, Sept
 ember 28\, 2019\nOur travels today take us across the Finger Lakes Region 
 of New York State. We will visit a local winery in the Erie\, Pennsylvania
  area to sample unique wines and the opportunity to shop in the wine cell
 ar. Later this afternoon we arrive in Albany\, New York for our overnight 
 stay. (B) Overnight: Albany\, NY\n 	Day #3 Sunday\, September 29\, 2019\nO
 ur first visit today will be the quaint Manchester Village\, Vermont. Enjo
 y free time to shop and browse this lovely town. There are a variety of re
 staurants for lunch (on own). This afternoon we visit “Hildene”\, Robe
 rt Todd Lincoln’s family estate. Explore the 24 room Georgian Manor and 
 formal gardens. Visit the fully restored\nPullman car and agriculture cent
 er where they make goat cheese! Learn about their family fortunes and misf
 ortunes. Later this afternoon we travel into the heart of Vermont’s Gre
 en Mountains and our lodging for the next two nights. This evening we enjo
 y dinner at one of the local restaurants. (BD)\nOvernight: Rutland\, VT\n 
 	Day #4 Monday\, September 30\, 2019\nThe best collection of Americana in 
 New England is at the Shelburne Museum. Known as the “collection of coll
 ections” the museum encompasses 45 acres and 39 buildings in a village 
 setting with free transportation to all sights. American paintings\, Impre
 ssionists\, folk art\, historic architecture\, covered bridge\, 1840 gener
 al\nstore\, 1950 period house\, the 220 foot Historic landmark SS Ticonder
 oga a circus parade miniatures and much more awaits the visitor. Our final
  visit today will be the Vermont Teddy Bear Factory for a fascinating adv
 enture into teddy bears! We will have an opportunity to make our own Perso
 nalized Teddy Bear to take home!\nThis evening enjoy a gourmet dinner and 
 live cooking demonstration featuring a renowned Vermont chef. (BD) Overnig
 ht: Rutland\, VT\n 	Day #5 Tuesday\, October 1\, 2019\nIt is a short drive
  to Graniteville\, Vermont and a visit the Rock of Ages Quarry. Enjoy a na
 rrated tour of the world’s largest working granite quarries. Watch as ma
 ster craftsmen create the finest granite products in the manufacturing pl
 ant. There is also a Visitors Center and Gift Shop to visit. Next we visit
  Montpelier\, Vermont\, the\nsmallest Capital in the United States\, with 
 one of only 13 Gold-domes remaining. Lunch (on own) will be at the Vermont
  State House today. Our travels continue into the White Mountains of New 
 Hampshire. We enjoy the spectacular fall colors of the area with a ride on
  the longest sky ride in the state to Loon Mountain. Here\nwe have lunch o
 n our own and enjoy the spectacular views. We will also visit the White Mo
 untain Visitors Center for an informative introduction to the area. This 
 evening we enjoy one of the top rated dinner trains in North America aboar
 d the Café Lafayette Dinner Train. (BD) Overnight: Waterville Valley\, NH
 \n 	Day #6 Wednesday\, October 2\, 2019\nThis morning our New England adve
 nture continues as we travel through New Hampshire’s fall colors to Bost
 on\, Massachusetts and the JFK Library &amp\; Museum. Overlooking the bay 
 the library and museum offers the visitor a film on Kennedy’s early year
 s and political life. A self-guided tour of the exhibits\, campaign headqu
 arters\, oval office\, and family memorabilia. Lunch will be here (on own)
  before departing. We continue on to the Cape Cod area for our next two-ni
 ght stay at and ocean front resort. (BD) Overnight: South Yarmouth\, MA\n
  	Day # 7 Thursday\, October 3\, 2019\nThis morning we board the ferry to 
 one of Cape Cod’s most treasured destinations\, Martha’s Vineyard Isla
 nd. Walk through the colorful “Gingerbread Cottages” on Oak Bluffs\; e
 xplore the quaint shops and delightful cafes. We’ll also tour along the 
 ocean where Jaw’s was filmed\, take photo stops including the Gay Head L
 ight and view the whaling captain’s mansions that line the streets. We r
 eturn to the mainland late afternoon and enjoy a delightful Lobster dinner
  this evening. (BD) Overnight: South Yarmouth\, MA\n 	Day # 8 Friday\, Oct
 ober 4\, 2019\nWe bid farewell to New England’s Cape Cod and travel to N
 ewport\, Rhode Island to view the magnificent “summer cottages” and Te
 n Mile Ocean Drive. We’ll have free time for lunch (on own) and explore 
 the Brick Market Place and Newport harbor. This afternoon we tour The Brea
 kers\, one of Cornelius Vanderbilt’s favorite private home. This evening
  we enjoy the Newport Playhouse &amp\; Cabaret Restaurant. (BD) Overnight:
  Warwick\, RI\n 	Day # 9 Saturday\, October 5\, 2019\nOur travels continue
  to the town of Shanksville\, Pennsylvania and a visit to the Flight 93 Me
 morial. Situated in the\nPennsylvania’s rolling country the recently com
 pleted and dedicated 911 memorial is a testimony to the bravery of\nthe pa
 ssengers aboard United Flight 93 at this perilous time in our nation’s h
 istory. (B) Overnight: Somerset\, PA\n 	Day # 10 Sunday\, October 6\, 2019
 \nOur travels continue with fun and games on board our deluxe motorcoach a
 s we travel to Indianapolis\, Indiana.\nThe White River Botanical Gardens 
 will be displaying the many fall colors and gardens including their famous
 \nbutterfly exhibit. We check into our hotel for the evening. (B\, Kick-Ba
 ck Reception) Overnight: Indianapolis\, IN\n 	Day # 11 Monday\, October 7\
 , 2019\nEnjoy a hearty breakfast this morning before our travels continue 
 across Indiana\, Illinois and Iowa. Enjoy the\nactivities on board our mot
 orcoach and share great memories of our New England/Cape Cod Fall Explorer
  before\narriving home in the late afternoon. (B)\n\nYour New England/Cape
  Cod Fall Explorer Includes:\n• Deluxe Tri-State Travel Motorcoach Trans
 portation\n• Ten Nights Lodging &amp\; Luggage Handling for One Suitcase
  Not To Exceed 50#\n• Sixteen Meals and a Kick-Back-Reception\n• All A
 ttractions as highlighted in the itinerary\n• Tri-State Travel Tour Dire
 ctor\n• JH Travel Host\n• Taxes and Gratuities on Included Accommodati
 ons\, Attractions\, Meals\, Step on Guides\, Tri-State Travel Motorcoach 
 Driver and\nTour Director\n\nNot included: Travel Protection Plan\, Additi
 onal Meals Or Items of a Personal Nature\n\nYour Tour Price:\n$2\,789.00 p
 er person - Triple - (two beds)\n$2\,999.00 per person - Double - (one or 
 two beds)\n$3\,769.00 per person - Single - (one bed)\nA 4% convenience fe
 e will be charged for all credit card transactions\n\nPayment/Cancellation
  &amp\; Refund Policy:\n• $250.00 per person deposit is due with reserva
 tion\n• Final date for sign up (subject to availability) and final payme
 nt is due by July 15\, 2019\n• Cancellations received on or before prio
 r to July 15\, 2019 will receive a full refund\n• Cancellations receive
 d after July 15\, 2019 and prior to August 1\, 2019 will be assessed a $2
 50.00 per person cancellation fee\n• Cancellations received after August
  1\, 2019 and prior to August 15\, 2019 will be assessed 50% of the per p
 erson tour price\n• Cancellations received after August 15\, 2019 will f
 orfeit the full price of the tour\n\nTravel Protection Plan is available 
 and strongly recommended. Premium is non-refundable unless the entire tour
  is cancelled. Any surcharges and/or tax increases received from supplier
 s for this package (Airlines\, Cruise Companies\, Hotels\, etc.) may resu
 lt in an increase in the per person price of your tour package. For those
  individuals who have purchased the Travel Protection Plan\, this may also
  result in an increase in your Travel Protection Plan premium.\n*Tri-State
  Travel reserves the right to change any arrangements listed in this itin
 erary. Should conditions necessitate changes: substitution of equal value 
 or cancellations of the arrangements may occur.\n*Tri-State Travel reserv
 es the right to add any fuel surcharges that we receive from all of our v
 endors i.e.: airlines\, cruise lines\, motorcoach companies\, etc.\nAdditi
 onal costs may be added any time prior to travel.\n\nFor Additional Inform
 ation or to Make a Reservation Contact:\nJanie Haunsperger\nJH Travel\nP 
 O Box 1023\nNewton\, IA 50208\n641-792-1980\njanie@jhtraveltours.com\n\nRe
 sponsibility:\nTri-State Travel and JH Travel LLC in offering this tour\, 
 does so only as an agent as outlined in this brochure. Therefore\, Tri-Sta
 te Travel and JH Travel LLC shall not become liable or responsible for an
 y loss\, injury or damage to person\, property or otherwise in connection
  with any accommodations\, transportation or other services or resulting 
 directly or indirectly from acts of God\, dangers incident to the waters\
 , fire\, breakdown in machinery or equipment\, acts of governments or oth
 er civil disturbances\, strikes\, riots\, thefts\, pilferage\, defaults\,
  delays\, or cancellations of or changes in itinerary\, accommodations or
  schedules. The right is reserved to decline\, to accept or retain any pe
 rson should a person’s health\, mental or physical condition or general
  deportment impede the operation of the tour or the rights or welfare or 
 enjoyment of the other passengers and a refund of the unused land tour se
 rvices is the limit of the agent’s liability should such a person be re
 quired to terminate the tour. The right is reserved to withdraw the tour 
 at any time and liability is limited to refund of all monies received. No
  refunds will be granted for unused portions of this tour unless arranged
  with the operator’s approval in writing in advance. Application for me
 mbership and / or posting deposit for this tour shall constitute the part
 icipant’s consent to the above terms and conditions.\n\nTo assist the t
 raveler in understanding the general physical activity levels associated 
 with a tour\, we have assigned a Physical Activity Rating to each program
 . We hope this will be of benefit in choosing a tour that will be a “Wo
 rry Free Vacation” for your client. Tri State Travel tours generally fa
 ll into the following four categories.\n\nLEVEL 2 Walking one or two city 
 blocks\, possibly climbing a flight of stairs and some standing during to
 urs and handling your carry-on bag. Handy-cap accessibility is standard o
 n most tours. If you would like further information or specific details p
 lease contact your trip sponsor or travel provider and handling your back
 /packs and carry-on bags.
ATTACH;FMTTYPE=image/jpeg:https://jhtraveltours.com/wp-content/uploads/201
 8/10/CapeCod.png
CATEGORIES:Extended Trip
END:VEVENT
BEGIN:VTIMEZONE
TZID:America/Chicago
X-LIC-LOCATION:America/Chicago
BEGIN:DAYLIGHT
DTSTART:20190310T030000
TZOFFSETFROM:-0600
TZOFFSETTO:-0500
TZNAME:CDT
END:DAYLIGHT
END:VTIMEZONE
END:VCALENDAR