BEGIN:VCALENDAR
VERSION:2.0
PRODID:-//wp-events-plugin.com//7.2.3.1//EN
TZID:America/Chicago
X-WR-TIMEZONE:America/Chicago
BEGIN:VEVENT
UID:251@jhtraveltours.com
DTSTART;TZID=America/Chicago:20180324T100000
DTEND;TZID=America/Chicago:20180324T181500
DTSTAMP:20180109T035732Z
URL:https://jhtraveltours.com/events/cedar-rapids-follies-dancin-thru-life
 /
SUMMARY:Cedar Rapids Follies - Dancin' Thru Life - #_LOCATIONNAME - 24 Mar 
 18 10:00
DESCRIPTION:Join JH Travel for a fun matinee show at the historic Paramount
  Theatre in Cedar Rapids\, IA! Due to scheduling conflicts we have not bee
 n able to attend this variety show held each year - in fact this is the 37
 th year!\n\nDon't miss out as the all star Follies company tangos through 
 the decades of song and dance\, from Broadway showstoppers to Saturday Nig
 ht Fever with stops at Willy Wonka's Chocolate Factory in between. Feel th
 e electricity as this cast of talented singers and dancers bring your favo
 rite melodies to life at the beautiful Paramount Theatre! So let loose\, k
 ick up your heels and don't miss out on "Dancin' Thru Life!" Toe tapping i
 s highly permitted!\n\n&nbsp\;\n\nPrior to the show our group will enjoy a
  lovely meal at Kava House located in Swisher\, Iowa. A smoked Iowa pork l
 oin\, potato\, vegetable\, dinner roll and dessert will be served!\n\nDon'
 t miss this fun day we have planned and see you soon! Following the show a
  fast food/restroom stop will be taken as we travel back to Newton.\n\nDep
 art:  10:00 a.m.\n\nReturn: 6:15 p.m.\n\nCost Per Person: $144.00\n\nRese
 rvation and payment due by February 19\, 2018
ATTACH;FMTTYPE=image/jpeg:https://jhtraveltours.com/wp-content/uploads/201
 8/01/CR-Follies-header.png
CATEGORIES:Day Trip
END:VEVENT
BEGIN:VTIMEZONE
TZID:America/Chicago
X-LIC-LOCATION:America/Chicago
BEGIN:DAYLIGHT
DTSTART:20180311T030000
TZOFFSETFROM:-0600
TZOFFSETTO:-0500
TZNAME:CDT
END:DAYLIGHT
END:VTIMEZONE
END:VCALENDAR