BEGIN:VCALENDAR
VERSION:2.0
PRODID:-//wp-events-plugin.com//7.2.3.1//EN
TZID:America/Chicago
X-WR-TIMEZONE:America/Chicago
BEGIN:VEVENT
UID:174@jhtraveltours.com
DTSTART;TZID=America/Chicago:20160713T074500
DTEND;TZID=America/Chicago:20160713T194500
DTSTAMP:20160104T045058Z
URL:https://jhtraveltours.com/events/celebration-belle-big-band-cruise/
SUMMARY:Celebration Belle - Big Band Cruise - #_LOCATIONNAME - 13 Jul 16 07
 :45
DESCRIPTION:Join JH Travel for one of our travelers’ favorite trips which
  is aboard the Celebration Belle (departing from Moline\, IL) on a musical
  day adventure! Bring along your appetite for the “yummy” sticky rolls
  &amp\; fruit upon arriving at the Belle and before long it is time for a 
 wonderful lunch buffet! Enjoy the Big Band sounds from Glenn Miller\, Guy 
 Lombardo\, Louie Armstrong and many others! And\, if you don’t hear a fa
 vorite be sure to request it and dance along!  Or\, you may decide to enj
 oy the many homes and businesses along our route on the open deck while th
 e captain narrates along the way! Come along to relax and tap your toe wit
 h all your favorite music! \n\nOn our way back to Newton we will be stoppi
 ng at the Coffee Cup Cafe in Sully for a wonderful meal of beef brisket an
 d all the favorite fixings with of course. . . pie for dessert! Great food
 \, wonderful music\, the joy of seeing friends and making new ones – don
 ’t wait too long to sign up! \n\nDepart:  7:45 a.m.\nReturn:  7:45 p.m
 .\n\nCost Per Person:  $154.00 \n\nReservation and payment due by June 9\
 , 2016
ATTACH;FMTTYPE=image/jpeg:https://jhtraveltours.com/wp-content/uploads/201
 4/11/200858430BueNhF_fs_thumb400x2451.jpg
CATEGORIES:Day Trip
END:VEVENT
BEGIN:VTIMEZONE
TZID:America/Chicago
X-LIC-LOCATION:America/Chicago
BEGIN:DAYLIGHT
DTSTART:20160313T030000
TZOFFSETFROM:-0600
TZOFFSETTO:-0500
TZNAME:CDT
END:DAYLIGHT
END:VTIMEZONE
END:VCALENDAR