BEGIN:VCALENDAR
VERSION:2.0
PRODID:-//wp-events-plugin.com//7.2.3.1//EN
TZID:America/Chicago
X-WR-TIMEZONE:America/Chicago
BEGIN:VEVENT
UID:349@jhtraveltours.com
DTSTART;TZID=America/Chicago:20210825T074500
DTEND;TZID=America/Chicago:20210825T194500
DTSTAMP:20210806T025728Z
URL:https://jhtraveltours.com/events/christian-music-more-celebration-bell
 e/
SUMMARY:Christian Music & More - Celebration Belle - #_LOCATIONNAME - 25 Au
 g 21 07:45
DESCRIPTION:Come aboard the Celebration Belle to hear the sounds of inspira
 tional music and the hits of yesterday while admiring the beauty of the ri
 ver. Yes\, Christian music mixed with the great songs of the past. Imagine
  songs like Amazing Grace\, How Great thou Art\, In the Garden\, Imagine\,
  songs of the Gaithers Oak Ridge Boys\, and many more familiar Christian s
 ongs while dancing to many memorable songs of the past\, such as Proud Mar
 y\, Unforgettable\, Anytime\, In the Mood\, and All Shook Up and many more
 . Yes it’s a combination of Christian music and great dance songs of the
  past while cruising along the mighty Mississippi river. Join us for an in
 spirational cruise that is bound to bring back beautiful memories!\n\nAaro
 n Lotzow is a high demand piano and vocal entertainer who has performed na
 tionally and internationally for 17 years! He has performed on Disney Crui
 se Lines joined by his wife\, Jade. They both play several instruments and
  provide great entertainment! **\n\nOnce we begin our cruise those "yummy"
  sticky rolls will be served and before long their wonderful buffet will b
 e laid out for lunch.  After we disembark the Celebration Belle our Hawke
 ye Stages coach will be awaiting and next on our itinerary a home cooked e
 vening meal awaits us at The Coffee Cup Cafe in Sully\, Iowa and of course
 . . . their home made pie!! Join us for this fun day!\n\nDepart:  7:45 a.
 m.\n\nReturn:  7:45 p.m.\n\nCost Per Person:  $176.00\n\nReservations an
 d payment due August 2\, 2021 \n\n \n\n**Entertainment subject to change
CATEGORIES:Day Trip
END:VEVENT
BEGIN:VTIMEZONE
TZID:America/Chicago
X-LIC-LOCATION:America/Chicago
BEGIN:DAYLIGHT
DTSTART:20210314T030000
TZOFFSETFROM:-0600
TZOFFSETTO:-0500
TZNAME:CDT
END:DAYLIGHT
END:VTIMEZONE
END:VCALENDAR