BEGIN:VCALENDAR
VERSION:2.0
PRODID:-//wp-events-plugin.com//7.2.3.1//EN
TZID:America/Chicago
X-WR-TIMEZONE:America/Chicago
BEGIN:VEVENT
UID:222@jhtraveltours.com
DTSTART;TZID=America/Chicago:20171112T053000
DTEND;TZID=America/Chicago:20171115T200000
DTSTAMP:20170118T061824Z
URL:https://jhtraveltours.com/events/christmas-branson-2017/
SUMMARY:Christmas In Branson 2017 - #_LOCATIONNAME - 12 Nov 17 05:30
DESCRIPTION:We are Branson bound! Branson is such an awesome place to get i
 nto the holiday spirit with the beautiful lights\, wonderful music and col
 orful decorations at each of the theatres\, as well as the attractions! Si
 gn up soon as this itinerary has a variety of top entertainment offered in
  Branson! We will be seeing six shows along with a Christmas light tour at
  Shepherd of the Hills.  The Christmas shows/attractions included in this
  trip are:\n\n\n\n*Texas Tenors\n\n*All Hands on Deck\n\n\n\n*Dixie Stampe
 de\n\n\n\n\n*Titanic Dance\n\n*Hughes Brothers Dinner Show\n\n\n\n*Christm
 as Light Tour\n*Country Barn\n\n\n\n*Miller Pecan Farm\n\n\n\n&nbsp\;\n\nT
 our includes:  motor coach transportation\, overnight accommodations at O
 zark Regal Hotel\, 6 meals  (2 continental breakfasts with 1 buffet break
 fast &amp\; 3 dinners)\, all taxes &amp\; gratuities included on the above
  mentioned items.\n\nDepart:  5:30 a.m. - November 12\, 2017\nReturn:  8
 :00 p.m. - November 15\, 2017\n\nCost Per Person:\n\n$644.00 Quad\n$664.00
  Triple\n$699.00 Double\n$799.00 Single\n\nA deposit of $100.00 is due at 
 the time of reservation.  The final balance is due by October 6\, 2017. 
ATTACH;FMTTYPE=image/jpeg:https://jhtraveltours.com/wp-content/uploads/201
 7/01/Christmas-in-Branson.png
CATEGORIES:Short Trip
END:VEVENT
BEGIN:VTIMEZONE
TZID:America/Chicago
X-LIC-LOCATION:America/Chicago
BEGIN:STANDARD
DTSTART:20171105T010000
TZOFFSETFROM:-0500
TZOFFSETTO:-0600
TZNAME:CST
END:STANDARD
END:VTIMEZONE
END:VCALENDAR