BEGIN:VCALENDAR
VERSION:2.0
PRODID:-//wp-events-plugin.com//7.2.3.1//EN
TZID:America/Chicago
X-WR-TIMEZONE:America/Chicago
BEGIN:VEVENT
UID:287@jhtraveltours.com
DTSTART;TZID=America/Chicago:20191031T053000
DTEND;TZID=America/Chicago:20191103T200000
DTSTAMP:20190617T163608Z
URL:https://jhtraveltours.com/events/christmas-in-branson-2019/
SUMMARY:Christmas in Branson 2019 - #_LOCATIONNAME - 31 Oct 19 05:30
DESCRIPTION:We are Branson bound! Branson is such an awesome place to get i
 nto the holiday spirit with the beautiful lights\, wonderful music and col
 orful decorations at each of the theatres\, as well as the attractions! Si
 gn up soon as this itinerary has a variety of top entertainment offered in
  Branson! We will be seeing six shows along with a Christmas light tour at
  Shepherd of the Hills.\n\n\n\nThe Christmas shows/attractions included in
  this trip are:\n\n&nbsp\;\n\n*Texas Tenors               
                                      
          *George Strait Dinner Show\n\n*Clay Cooper Show     
                                      
           *Presley's Show\n\n*Brett Family Show         
                                      
       *Miller Pecan Farm\n\n*Andy Williams Ozark Mountains Christmas 
 Show *Country Barn\n\nwith Jimmy Osmond &amp\; The Lennon Sisters     
          *Shepard of the Hills Light Tour\n\n&nbsp\;\n\nTour inclu
 des:  motor coach transportation\, overnight accommodations\, 6 meals  (
 3 continental breakfasts &amp\; 3 dinners)\, all taxes &amp\; gratuities i
 ncluded on the above mentioned items.\n\nCost Per Person:\n$649.00 Quad\n$
 674.00 Triple\n$709.00 Double\n$824.00 Single\n\nA deposit of $100.00 is d
 ue at the time of reservation.  The final balance is due by September 12\
 , 2019.
ATTACH;FMTTYPE=image/jpeg:https://jhtraveltours.com/wp-content/uploads/201
 8/12/Branson2019.png
CATEGORIES:Short Trip
END:VEVENT
BEGIN:VTIMEZONE
TZID:America/Chicago
X-LIC-LOCATION:America/Chicago
BEGIN:DAYLIGHT
DTSTART:20190310T030000
TZOFFSETFROM:-0600
TZOFFSETTO:-0500
TZNAME:CDT
END:DAYLIGHT
BEGIN:STANDARD
DTSTART:20191103T010000
TZOFFSETFROM:-0500
TZOFFSETTO:-0600
TZNAME:CST
END:STANDARD
END:VTIMEZONE
END:VCALENDAR