BEGIN:VCALENDAR
VERSION:2.0
PRODID:-//wp-events-plugin.com//7.2.3.1//EN
TZID:America/Chicago
X-WR-TIMEZONE:America/Chicago
BEGIN:VEVENT
UID:324@jhtraveltours.com
DTSTART;TZID=America/Chicago:20201112T053000
DTEND;TZID=America/Chicago:20201115T150000
DTSTAMP:20191217T044959Z
URL:https://jhtraveltours.com/events/christmas-in-branson-2020/
SUMMARY:Christmas in Branson 2020 - #_LOCATIONNAME - 12 Nov 20 05:30
DESCRIPTION:\n\nNovember 12 - 15\, 2020 (Thursday - Sunday) \n\nWe are Bran
 son bound! Branson is such an awesome place to get into the holiday spirit
  with the beautiful lights\, wonderful music and colorful decorations at e
 ach of the theatres\, as well as the attractions! Sign up soon as this iti
 nerary has a variety of top entertainment offered in Branson! We will be s
 eeing six shows and the shows/attractions included in this trip are:\n\n\n
 \n*Haygood Family Christmas\n*Hughes Brothers Family Christmas\n\n\n*Hot R
 ods &amp\; High Heels\n*Shoji Tabuchi Christmas Show\n\n\n*Yakov Smirnoff 
 Show\n*Miller Pecan Farm\n\n\n*Noah - Sight &amp\; Sound Theatre\n*Country
  Barn\n\n\n\nTour includes:  motor coach transportation\, overnight accom
 modations\, 6 meals  (2 continental breakfasts with one breakfast at Upto
 wn Cafe &amp\; 3 dinners)\, all taxes &amp\; gratuities included on the ab
 ove mentioned items.\n\nDepart:  5:30 a.m. - November 12\, 2020\n\nReturn
 :  8:00 p.m. - November 15\, 2020\n\nCost Per Person:\n\n\n\n$679.00 Quad
 \n$694.00 Triple\n\n\n$729.00 Double\n$844.00 Single\n\n\n\nA deposit of $
 100.00 is due at the time of reservation.  The final balance is due by Oc
 tober 1\, 2020.
ATTACH;FMTTYPE=image/jpeg:https://jhtraveltours.com/wp-content/uploads/201
 5/01/ChristmasInBransonLogo800.png
CATEGORIES:Extended Trip
END:VEVENT
BEGIN:VTIMEZONE
TZID:America/Chicago
X-LIC-LOCATION:America/Chicago
BEGIN:STANDARD
DTSTART:20201101T010000
TZOFFSETFROM:-0500
TZOFFSETTO:-0600
TZNAME:CST
END:STANDARD
END:VTIMEZONE
END:VCALENDAR