BEGIN:VCALENDAR
VERSION:2.0
PRODID:-//wp-events-plugin.com//7.2.3.1//EN
TZID:America/Chicago
X-WR-TIMEZONE:America/Chicago
BEGIN:VEVENT
UID:344@jhtraveltours.com
DTSTART;TZID=America/Chicago:20211104T053000
DTEND;TZID=America/Chicago:20211107T200000
DTSTAMP:20210330T022801Z
URL:https://jhtraveltours.com/events/christmas-in-branson-2021/
SUMMARY:Christmas in Branson - #_LOCATIONNAME - 4 Nov 21 05:30
DESCRIPTION:November 4 - 7\, 2021 (Thursday - Sunday) \n\n \n\nWe are Bran
 son bound! Branson is such an awesome place to get into the holiday spirit
  with the beautiful lights\, wonderful music and colorful decorations at e
 ach of the theatres\, as well as the attractions! Sign up soon as this iti
 nerary has a variety of top entertainment offered in Branson! We will be s
 eeing six shows and the shows/attractions included in this trip are:\n\n&n
 bsp\;\n\n*Haygood Family Christmas                    
                   *Hughes Brothers Family Christmas\n\n*H
 ot Rods &amp\; High Heels                        
                    *Dublin's Irish Tenors &amp\; Celtic\
 n\n*Brett Family Christmas                        
                      *Miller Pecan Farm\n\n*Jesus is C
 oming! - Sight &amp\; Sound Theatre               *Country B
 arn\n\n&nbsp\;\n\n&nbsp\;\n\nTour includes:  motor coach transportation\,
  overnight accommodations\, 6 meals (2 continental breakfasts with one bre
 akfast at Uptown Cafe &amp\; 3 dinners)\, all taxes &amp\; gratuities incl
 uded on the above mentioned items.\n\n&nbsp\;\n\nDepart:  5:30 a.m. - Nov
 ember 4\, 2021\n\nReturn:  8:00 p.m. - November 7\, 2021\n\n&nbsp\;\n\nCo
 st Per Person:          $694.00 Quad               
           $709.00 Triple\n\n$744.00 Double            
           $859.00 Single\n\n&nbsp\;\n\nA deposit of $100.00 is du
 e at the time of reservation.  The final balance is due by September 22\,
  2021.
ATTACH;FMTTYPE=image/jpeg:https://jhtraveltours.com/wp-content/uploads/201
 5/01/ChristmasInBransonLogo800.png
CATEGORIES:Short Trip
END:VEVENT
BEGIN:VTIMEZONE
TZID:America/Chicago
X-LIC-LOCATION:America/Chicago
BEGIN:DAYLIGHT
DTSTART:20210314T030000
TZOFFSETFROM:-0600
TZOFFSETTO:-0500
TZNAME:CDT
END:DAYLIGHT
BEGIN:STANDARD
DTSTART:20211107T010000
TZOFFSETFROM:-0500
TZOFFSETTO:-0600
TZNAME:CST
END:STANDARD
END:VTIMEZONE
END:VCALENDAR