BEGIN:VCALENDAR
VERSION:2.0
PRODID:-//wp-events-plugin.com//7.2.3.1//EN
TZID:America/Chicago
X-WR-TIMEZONE:America/Chicago
BEGIN:VEVENT
UID:375@jhtraveltours.com
DTSTART;TZID=America/Chicago:20221114T053000
DTEND;TZID=America/Chicago:20221117T200000
DTSTAMP:20220923T050653Z
URL:https://jhtraveltours.com/events/christmas-in-branson-2022/
SUMMARY:Christmas In Branson 2022 - #_LOCATIONNAME - 14 Nov 22 05:30
DESCRIPTION:We are Branson bound! Branson is such an awesome place to get i
 nto the holiday spirit with the beautiful lights\, wonderful music and col
 orful decorations at each of the theatres\, as well as the attractions! Si
 gn up soon as this itinerary has a variety of top entertainment offered in
  Branson! We will be seeing six shows and the shows/attractions included i
 n this trip are:\n\n&nbsp\;\n\n*Miracle of Christmas - Sight &amp\; Sound 
 Theatre        *The Dutton Family Christmas\n\n*Clay Cooper Christm
 as Show                                 
   *Texas Tenors\n\n*Cassendre' Christmas Show              
                        *Miller Pecan Farm\n\n*Peters
 on Family Christmas Show                         
     *Country Barn\n\n*Cakes N' Creme\n\nTour includes:  motor coach tr
 ansportation\, overnight accommodations\, 6 meals  (2 continental breakfa
 sts with one breakfast at Uptown Cafe &amp\; 3 dinners)\, all taxes &amp\;
  gratuities included on the above mentioned items.\n\n&nbsp\;\n\nDepart: 
  5:30 a.m. - November 14\, 2022\n\nReturn:  8:00 p.m. - November 17\, 202
 2\n\n&nbsp\;\n\nCost Per Person:\n\n$724.00 Quad\n$739.00 Triple\n$774.00 
 Double\n$889.00 Single\n\n&nbsp\;\n\nA deposit of $100.00 is due at the ti
 me of reservation.  The final balance is due by September 26\, 2022. \n\n
  \n\n**Trip Subject to Change 
ATTACH;FMTTYPE=image/jpeg:https://jhtraveltours.com/wp-content/uploads/201
 5/01/ChristmasInBransonLogo800.png
CATEGORIES:Short Trip
END:VEVENT
BEGIN:VTIMEZONE
TZID:America/Chicago
X-LIC-LOCATION:America/Chicago
BEGIN:STANDARD
DTSTART:20221106T010000
TZOFFSETFROM:-0500
TZOFFSETTO:-0600
TZNAME:CST
END:STANDARD
END:VTIMEZONE
END:VCALENDAR