BEGIN:VCALENDAR
VERSION:2.0
PRODID:-//wp-events-plugin.com//7.2.3.1//EN
TZID:America/Chicago
X-WR-TIMEZONE:America/Chicago
BEGIN:VEVENT
UID:150@jhtraveltours.com
DTSTART;TZID=America/Chicago:20151112T053000
DTEND;TZID=America/Chicago:20151115T200000
DTSTAMP:20150608T032935Z
URL:https://jhtraveltours.com/events/christmas-in-branson/
SUMMARY:Christmas in Branson - #_LOCATIONNAME - 12 Nov 15 05:30
DESCRIPTION:We are Branson bound! Branson is such an awesome place to get i
 nto the holiday spirit with the beautiful lights\, wonderful music and col
 orful decorations at each of the theatres\, as well as the attractions! Si
 gn up soon as this itinerary has a variety of top entertainment offered in
  Branson! We will be seeing six shows along with a Christmas light tour at
  Shepherd of the Hills. The Christmas shows/attractions included in this t
 rip are:\n\n	Texas Tenors\n	Jonah!\n	Billy Dean\n	Brett Family Christmas S
 how\n	George Dyer\n	Hughes Brothers Dinner Show\n	Christmas Light Tour\n	C
 ountry Barn\n	Miller Pecan Farm\n\nTour includes: motor coach transportati
 on\, overnight accommodations at Ozark Regal Hotel\, 6 meals (3 continenta
 l breakfasts &amp\; 3 dinners)\, all taxes &amp\; gratuities included on t
 he above mentioned items. \n\nDepart: 5:30 a.m. - November 12\, 2015\nRetu
 rn: 8:00 p.m. - November 15\, 2015\n\nCost Per Person:\n$619.00 Quad\n$639
 .00 Triple\n$669.00 Double\n$776.00 Single\n\nA deposit of $100.00 is due 
 at the time of reservation. The final balance is due by October 7\, 2015.\
 n\nGraphics provided by: http://www.explorebranson.com/\n\n&nbsp\;
ATTACH;FMTTYPE=image/jpeg:https://jhtraveltours.com/wp-content/uploads/201
 5/01/ChristmasInBransonLogo800.png
CATEGORIES:Short Trip
END:VEVENT
BEGIN:VTIMEZONE
TZID:America/Chicago
X-LIC-LOCATION:America/Chicago
BEGIN:STANDARD
DTSTART:20151101T010000
TZOFFSETFROM:-0500
TZOFFSETTO:-0600
TZNAME:CST
END:STANDARD
END:VTIMEZONE
END:VCALENDAR