BEGIN:VCALENDAR
VERSION:2.0
PRODID:-//wp-events-plugin.com//7.2.3.1//EN
TZID:America/Chicago
X-WR-TIMEZONE:America/Chicago
BEGIN:VEVENT
UID:392@jhtraveltours.com
DTSTART;TZID=America/Chicago;VALUE=DATE:20231204
DTEND;TZID=America/Chicago;VALUE=DATE:20231209
DTSTAMP:20230310T020334Z
URL:https://jhtraveltours.com/events/christmas-in-new-york-city/
SUMMARY:Christmas in New York City - #_LOCATIONNAME - 4 Dec 23 00:00
DESCRIPTION:[pdf-embedder url="https://jhtraveltours.com/wp-content/uploads
 /2023/03/NYC-Christmas-2023.pdf" title="NYC Christmas 2023"]\n\nDownload
ATTACH;FMTTYPE=image/jpeg:https://jhtraveltours.com/wp-content/uploads/202
 3/03/nyc-2023-image.png
CATEGORIES:Extended Trip
END:VEVENT
BEGIN:VTIMEZONE
TZID:America/Chicago
X-LIC-LOCATION:America/Chicago
BEGIN:STANDARD
DTSTART:20231105T010000
TZOFFSETFROM:-0500
TZOFFSETTO:-0600
TZNAME:CST
END:STANDARD
END:VTIMEZONE
END:VCALENDAR