BEGIN:VCALENDAR
VERSION:2.0
PRODID:-//wp-events-plugin.com//7.2.3.1//EN
TZID:America/Chicago
X-WR-TIMEZONE:America/Chicago
BEGIN:VEVENT
UID:159@jhtraveltours.com
DTSTART;TZID=America/Chicago:20151212T083000
DTEND;TZID=America/Chicago:20151212T200000
DTSTAMP:20150721T030128Z
URL:https://jhtraveltours.com/events/christmas-spectacular/
SUMMARY:Christmas Spectacular - #_LOCATIONNAME - 12 Dec 15 08:30
DESCRIPTION:Enjoy dancing Santa's and traditional Christmas songs? Join JH 
 Travel for a wonderful\, matinee Christmas show at the Holland Performing 
 Arts! \n\nThe Upstream Brewing Co will host our group for lunch prior to t
 he show with a choice of: 1). Beer Braised Pot Roast with smashed potatoes
 \, gravy &amp\; vegetables or 2). Char-broiled Chicken Breast with Raspber
 ry Glaze\, Pinenuts and Feta with house rice and vegetables (your choice o
 f meal is needed at the time of reservation). And\, yes\, of course desser
 t - which will be a fruit cobbler with ice cream. \n\nNow\, it is time to 
 sit back and enjoy the "Christmas Spectacular"! Celebrate the magic\, roma
 nce\, and the joy of the season as Broadway stars add to the lush sounds o
 f the Omaha Symphony! A singing and dancing treat for everyone! Hope to ha
 ve you join us! \n\nAfter the show on our way back to Newton we will stop 
 and have a fast food break (on your own).\n\nDepart: 8:30 a.m. \n\nReturn:
  8:00 p.m. \n\nCost Per Person: $163.00 \n\nReservation and payment due by
  November 2\, 2015 
ATTACH;FMTTYPE=image/jpeg:https://jhtraveltours.com/wp-content/uploads/201
 5/07/christmas.jpg
CATEGORIES:Day Trip
END:VEVENT
BEGIN:VTIMEZONE
TZID:America/Chicago
X-LIC-LOCATION:America/Chicago
BEGIN:STANDARD
DTSTART:20151101T010000
TZOFFSETFROM:-0500
TZOFFSETTO:-0600
TZNAME:CST
END:STANDARD
END:VTIMEZONE
END:VCALENDAR