BEGIN:VCALENDAR
VERSION:2.0
PRODID:-//wp-events-plugin.com//7.2.3.1//EN
TZID:America/Chicago
X-WR-TIMEZONE:America/Chicago
BEGIN:VEVENT
UID:70@jhtraveltours.com
DTSTART;TZID=America/Chicago:20131120T131500
DTEND;TZID=America/Chicago:20131120T194500
DTSTAMP:20121006T040919Z
URL:https://jhtraveltours.com/events/church-basement-ladies-away-in-the-ba
 sement/
SUMMARY:Church Basement Ladies: Away in the Basement - #_LOCATIONNAME - 20 
 Nov 13 13:15
DESCRIPTION:Come celebrate the holidays with the Church Basement Ladies! Th
 is all-new show is filled with their heart-warming humor and wisdom.  The
  year is 1959 and the ladies are putting final touches on the annual Sunda
 y School Christmas program while they reminisce.  You can almost smell th
 e cookies baking as these ladies dish out more than holiday goodies.  Awa
 y in the Basement is a warm and wonderful way to celebrate the holiday sea
 son!\n\nJoin JH Travel for this special holiday show at the Old Creamery T
 heatre in Amana\, Iowa on November 20th.  Following the matinee productio
 n our evening meal will be served family style at the Ox Yoke Inn with mou
 th watering fried chicken and smoked pork chops with all the favorite Aman
 a fixings!\n\nGet ready to laugh at this comical production and be sure to
  bring along your appetite for the “yummy” meal at Ox Yoke Inn!
CATEGORIES:Day Trip
LOCATION:#_LOCATIONNAME\, #_LOCATIONFULLLINE\, #_LOCATIONCOUNTRY
GEO:41.8063;-91.8843
X-APPLE-STRUCTURED-LOCATION;VALUE=URI;X-ADDRESS=#_LOCATIONFULLLINE\, #_LOCA
 TIONCOUNTRY;X-APPLE-RADIUS=100;X-TITLE=#_LOCATIONNAME:geo:41.8063,-91.8843
END:VEVENT
BEGIN:VTIMEZONE
TZID:America/Chicago
X-LIC-LOCATION:America/Chicago
BEGIN:STANDARD
DTSTART:20131103T010000
TZOFFSETFROM:-0500
TZOFFSETTO:-0600
TZNAME:CST
END:STANDARD
END:VTIMEZONE
END:VCALENDAR