BEGIN:VCALENDAR
VERSION:2.0
PRODID:-//wp-events-plugin.com//7.2.3.1//EN
TZID:America/Chicago
X-WR-TIMEZONE:America/Chicago
BEGIN:VEVENT
UID:227@jhtraveltours.com
DTSTART;TZID=America/Chicago:20171026T121500
DTEND;TZID=America/Chicago:20171026T190000
DTSTAMP:20170820T003221Z
URL:https://jhtraveltours.com/events/church-basement-ladies-rise-o-men/
SUMMARY:Church Basement Ladies in Rise Up\, O Men! - #_LOCATIONNAME - 26 Oc
 t 17 12:15
DESCRIPTION:Join JH Travel for an afternoon of comedy\, fun &amp\; great fo
 od! Don't forget to make your reservations soon!\n\nThis latest addition t
 o the Church Basement Ladies series\, Rise Up\, O Men\, is a brand new mus
 ical comedy introducing the men of the church right alongside your favorit
 e ladies from the basement. As these hard-working farmers discuss “man s
 tuff\,” they unintentionally disrupt the order of the kitchen. But that
 ’s what happens when you let the rooster in the hen house. Will you have
  fun? You betcha!\n\nAfter the show an evening meal will be served at the 
 English Valley B &amp\; B near Montezuma - so don't forget to bring your a
 ppetite for a "yummy" meal served by Stacy and her gang!\n\nDepart:  12:1
 5 p.m.\nReturn:  7:00 p.m.\n\nCost Per Person:  $103.00\n\nReservations 
 and payment due by October 6\, 2017
ATTACH;FMTTYPE=image/jpeg:https://jhtraveltours.com/wp-content/uploads/201
 7/04/RISE-UP-Logo_FINAL-sm_copy.png
CATEGORIES:Day Trip
END:VEVENT
BEGIN:VTIMEZONE
TZID:America/Chicago
X-LIC-LOCATION:America/Chicago
BEGIN:DAYLIGHT
DTSTART:20170312T030000
TZOFFSETFROM:-0600
TZOFFSETTO:-0500
TZNAME:CDT
END:DAYLIGHT
END:VTIMEZONE
END:VCALENDAR