BEGIN:VCALENDAR
VERSION:2.0
PRODID:-//wp-events-plugin.com//7.2.3.1//EN
TZID:America/Chicago
X-WR-TIMEZONE:America/Chicago
BEGIN:VEVENT
UID:286@jhtraveltours.com
DTSTART;TZID=America/Chicago:20190523T121500
DTEND;TZID=America/Chicago:20190523T194500
DTSTAMP:20181230T042112Z
URL:https://jhtraveltours.com/events/church-basement-ladies/
SUMMARY:Church Basement Ladies - #_LOCATIONNAME - 23 May 19 12:15
DESCRIPTION:This show is always a sell out for JH Travel and you don't want
  to miss this one either! Get ready for a comedy show\, fun time with frie
 nds and a lovely meal at Kava House in Swisher\, IA!\n\nThey’re back and
  better than ever! Fall in love with your favorite Lutheran Ladies all ove
 r again in the very first installment of the wildly popular Church Basemen
 t Ladies Series. Inspired by the best-selling book “Growing Up Lutheran\
 ,” these ladies are serving up love and laughter in this delightful musi
 cal comedy.\n\nHope to have you join us for this matinee show at Old Cream
 ery Theatre in Amana\, Iowa! We already have several folks signed up - so 
 don't miss the fun!\n\nDepart:  12:15 p.m.\n\nReturn:  7:45 p.m.\n\nCost
  Per Person:  $114.00\n\nReservations and payment due by May 3\, 2019
ATTACH;FMTTYPE=image/jpeg:https://jhtraveltours.com/wp-content/uploads/201
 8/12/Church-Basement-Ladies.jpg
CATEGORIES:Day Trip
END:VEVENT
BEGIN:VTIMEZONE
TZID:America/Chicago
X-LIC-LOCATION:America/Chicago
BEGIN:DAYLIGHT
DTSTART:20190310T030000
TZOFFSETFROM:-0600
TZOFFSETTO:-0500
TZNAME:CDT
END:DAYLIGHT
END:VTIMEZONE
END:VCALENDAR