BEGIN:VCALENDAR
VERSION:2.0
PRODID:-//wp-events-plugin.com//7.2.3.1//EN
TZID:America/Chicago
X-WR-TIMEZONE:America/Chicago
BEGIN:VEVENT
UID:364@jhtraveltours.com
DTSTART;TZID=America/Chicago:20221102T091500
DTEND;TZID=America/Chicago:20221102T183000
DTSTAMP:20220923T050514Z
URL:https://jhtraveltours.com/events/clue-the-musical/
SUMMARY:Clue: The Musical - #_LOCATIONNAME - 2 Nov 22 09:15
DESCRIPTION:Join JH Travel for lunch &amp\; matinee show at Circa 21 Dinner
  Playhouse in Rock Island\, IL! Enjoy a wonderful plated lunch\, an entert
 aining performance by the wait staff - the "Bootleggers" and sit back &amp
 \; relax for the fun filled show of "Clue: The Musical"!\n\nThe internatio
 nally popular game is now a fun-filled musical that brings the world’s b
 est-known suspects to life and invites the audience to help solve the myst
 ery: who killed Mr. Boddy\, in what room\, and with what weapon. The audie
 nce receives forms to help them deduce the solution from clues given throu
 ghout the fun-filled evening. Three audience members choose from cards rep
 resenting the potential murderers\, weapons\, and rooms\; there are 216 po
 ssible solutions! Only one hard-nosed female detective is qualified to unr
 avel the merry mayhem. Comic antics\, witty lyrics\, and a beguiling score
  carry the investigation from room to room. Even after the culprit confess
 es\, a surprise twist delights the audience.\n\nGet ready for a fun aftern
 oon show along with your traveling friends! Hope to have you join us!\n\nD
 epart: 9:15 a.m.\nReturn: 6:30 p.m.\n\nCost Per Person: $152.00\n\nReserva
 tion and payment due by: September 26\, 2022
ATTACH;FMTTYPE=image/jpeg:https://jhtraveltours.com/wp-content/uploads/202
 2/01/clue-the-musical.jpg
CATEGORIES:Day Trip
END:VEVENT
BEGIN:VTIMEZONE
TZID:America/Chicago
X-LIC-LOCATION:America/Chicago
BEGIN:DAYLIGHT
DTSTART:20220313T030000
TZOFFSETFROM:-0600
TZOFFSETTO:-0500
TZNAME:CDT
END:DAYLIGHT
END:VTIMEZONE
END:VCALENDAR