BEGIN:VCALENDAR
VERSION:2.0
PRODID:-//wp-events-plugin.com//7.2.3.1//EN
TZID:America/Chicago
X-WR-TIMEZONE:America/Chicago
BEGIN:VEVENT
UID:160@jhtraveltours.com
DTSTART;TZID=America/Chicago;VALUE=DATE:20160910
DTEND;TZID=America/Chicago;VALUE=DATE:20160919
DTSTAMP:20150721T033834Z
URL:https://jhtraveltours.com/events/colorado-mountain-trains/
SUMMARY:Colorado Mountain Trains - #_LOCATIONNAME - 10 Sep 16 00:00
DESCRIPTION:[gview file="https://jhtraveltours.com//wp-content/uploads/2015
 /07/Colorado-Mountains-Trains-and-Fall-Foliage.pdf"]
ATTACH;FMTTYPE=image/jpeg:https://jhtraveltours.com/wp-content/uploads/201
 5/07/Colorado.png
CATEGORIES:Extended Trip
END:VEVENT
BEGIN:VTIMEZONE
TZID:America/Chicago
X-LIC-LOCATION:America/Chicago
BEGIN:DAYLIGHT
DTSTART:20160313T030000
TZOFFSETFROM:-0600
TZOFFSETTO:-0500
TZNAME:CDT
END:DAYLIGHT
END:VTIMEZONE
END:VCALENDAR