BEGIN:VCALENDAR
VERSION:2.0
PRODID:-//wp-events-plugin.com//7.2.3.1//EN
TZID:America/Chicago
X-WR-TIMEZONE:America/Chicago
BEGIN:VEVENT
UID:189@jhtraveltours.com
DTSTART;TZID=America/Chicago:20160628T051500
DTEND;TZID=America/Chicago:20160628T200000
DTSTAMP:20160408T072835Z
URL:https://jhtraveltours.com/events/combines-backhoes-tour-2016/
SUMMARY:Combines\, Backhoes & More Tour - 2016 - #_LOCATIONNAME - 28 Jun 16
  05:15
DESCRIPTION:&nbsp\;\n\nBack by popular demand! Our past agriculture tours h
 ave hosted two coaches and we are looking forward to having you join us fo
 r the 2016 tour! \n\nWe begin our day with a visit to the John Deere Harve
 ster Works in East Moline\, IL which is the home of Deere &amp\; Co's larg
 est combine factory. This tour will be a riding tour followed by time at t
 he Visitors Center.  Our coach then takes us to CNHI (Case New Holland In
 dustries) located in Burlington\, Iowa known to be the "Backhoe Capital of
  the World".  Our walking factory tour will highlight the making of grain
  heads\, tractor-loader-backhoes and other heavy construction machinery. A
  box lunch will be served to be eaten on the way Rock Island Arsenal where
  after a short security check we will visit the Mississippi River Visitor 
 Center for a program on "Barge Traffic on Locks &amp\; Dams" with addition
 al time to walk outside or view the many visitor boards. \n\nOur day will 
 be complete with our evening meal at the English Valley B &amp\; B located
  by Montezuma\, Iowa. Our meal will be served in a barn that hosts a varie
 ty of farm implements or farm related items - be sure to look at everythin
 g! \n\n*Please note:  No cell phones\, cameras &amp\; videos\, all guests
  must be at least 13 yrs old\, guests must wear full shoes that cover both
  the heel &amp\; toes for each of the factory tours.  A listing of all tr
 avelers will be shared with both of the factories as well as the security 
 check point to enter Rock Island Arsenal. When making your reservations pl
 ease note that Coach #1 will be filled before the addition of Coach #2 in 
 which the above itinerary will be changed to accommodate the factory tours
 . \n\nDepart:  5:15 a.m. \n\nReturn:  8:00 p.m. \n\nCost Per Person:  $
 129.00 \n\nReservation and payment due by June 7\, 2016
ATTACH;FMTTYPE=image/jpeg:https://jhtraveltours.com/wp-content/uploads/201
 6/04/JohnDeere.png
CATEGORIES:Day Trip
END:VEVENT
BEGIN:VTIMEZONE
TZID:America/Chicago
X-LIC-LOCATION:America/Chicago
BEGIN:DAYLIGHT
DTSTART:20160313T030000
TZOFFSETFROM:-0600
TZOFFSETTO:-0500
TZNAME:CDT
END:DAYLIGHT
END:VTIMEZONE
END:VCALENDAR