BEGIN:VCALENDAR
VERSION:2.0
PRODID:-//wp-events-plugin.com//7.2.3.1//EN
TZID:America/Chicago
X-WR-TIMEZONE:America/Chicago
BEGIN:VEVENT
UID:378@jhtraveltours.com
DTSTART;TZID=America/Chicago:20221125T121500
DTEND;TZID=America/Chicago:20221125T193000
DTSTAMP:20220923T050933Z
URL:https://jhtraveltours.com/events/come-from-away/
SUMMARY:Come From Away - #_LOCATIONNAME - 25 Nov 22 12:15
DESCRIPTION:Broadway’s COME FROM AWAY is a Best Musical winner all acro
 ss North America!\nThis New York Times Critics’ Pick takes you into th
 e heart of the remarkable true story of 7\,000\nstranded passengers and th
 e small town in Newfoundland that welcomed them. Cultures clashed\nand ner
 ves ran high\, but uneasiness turned into trust\, music soared into the ni
 ght\, and gratitude\ngrew into enduring friendships.  Newsweek cheers\, 
 “It takes you to a place you never want to\nleave!”\n\nOn 9/11\, the w
 orld stopped.\nOn 9/12\, their stories moved us all.\n\nMatinee show will 
 begin at 2:00 p.m. and following this awesome performance Red Lobster in\n
 West Des Moines will host our group for an evening meal with several choic
 es of main entrees\nincluding seafood\, pasta or chicken\, side dishes\, c
 heesy biscuits and of course. . . dessert!\nWe already have several signup
 s for this trip - so don't wait too long to make your reservation!\nRick &
 amp\; I along with some of our travelers had the opportunity to see this p
 roduction while in\nNew York City and we all LOVED IT!!\nDepart: 12:15 p.m
 .\nReturn: 7:30 p.m.\nCost Per Person: $233.00\n($100.00 NON REFUNDABLE DE
 POSIT IS DUE AT THE TIME OF RESERVATION\nAND THE REMAINDER IS DUE BY OCTOB
 ER 1\, 2022).\nReservation and payment due by October 1\, 2022
ATTACH;FMTTYPE=image/jpeg:https://jhtraveltours.com/wp-content/uploads/202
 2/07/ComeFromAwayLogo.jpg
CATEGORIES:Day Trip
END:VEVENT
BEGIN:VTIMEZONE
TZID:America/Chicago
X-LIC-LOCATION:America/Chicago
BEGIN:STANDARD
DTSTART:20221106T010000
TZOFFSETFROM:-0500
TZOFFSETTO:-0600
TZNAME:CST
END:STANDARD
END:VTIMEZONE
END:VCALENDAR